BEGIN:VCALENDAR
VERSION:2.0
PRODID:-//wp-events-plugin.com//7.2.3.1//EN
BEGIN:VEVENT
UID:71@ventureclub.cz
DTSTART;TZID=Europe/Prague:20180914T080000
DTEND;TZID=Europe/Prague:20180914T100000
DTSTAMP:20221007T074210Z
URL:https://ventureclub.cz/udalost/klubove-rano-1-14-9-2018/
SUMMARY:Klubové ráno 1
DESCRIPTION:Zveme Vás na první Klubové ráno - neformální snídaňovou
  akci Venture Clubu.\n\nJedním z hlavních přínosů našeho klubu je di
 skuze a předávání zkušeností. Někdy kvůli nabitému programu vět
 šiny akcí nezůstane dostatek času na neformální popovídání. Změn
 íme to\, zkusíme i ranní setkávání\, na začátek do konce roku 2018
 . První snídani věnujeme - mimo jiné - akci Opero 30.10. 2018 a jak j
 i obsadit a dobře připravit. \n\nMomentálně jsou naplánovaná 4 Klub
 ová rána. Těšit se na ně můžete vždy 2. pátek v měsíci\, od 8:0
 0 - 10:00\, v prostorách hotelové restaurace Jalta na Václavském nám
 ěstí Praha 1.\n\nSnídaně se hradí na místě hotově\, 200 Kč člen
 ové a 250 Kč hosté. Úhrada zahrnuje bohatý neomezený snídaňový bu
 fet hotelu.\n\n&nbsp\;
ATTACH;FMTTYPE=image/jpeg:https://ventureclub.cz/wp-content/uploads/2022/0
 8/Klubove_Rano_.jpg
CATEGORIES:Společenská akce
LOCATION:Jalta Boutique Hotel\, Václavské nám. 818/45\, Praha 1\, CZ\, 1
 1000\, Praha 1\, Česká republika
GEO:50.0811995;14.428557100000035
X-APPLE-STRUCTURED-LOCATION;VALUE=URI;X-ADDRESS=Václavské nám. 818/45\, 
 Praha 1\, CZ\, 11000\, Praha 1\, Česká republika;X-APPLE-RADIUS=100;X-TI
 TLE=Jalta Boutique Hotel:geo:50.0811995,14.428557100000035
END:VEVENT
BEGIN:VTIMEZONE
TZID:Europe/Prague
X-LIC-LOCATION:Europe/Prague
BEGIN:DAYLIGHT
DTSTART:20180325T030000
TZOFFSETFROM:+0100
TZOFFSETTO:+0200
TZNAME:CEST
END:DAYLIGHT
END:VTIMEZONE
END:VCALENDAR