BEGIN:VCALENDAR
VERSION:2.0
PRODID:-//wp-events-plugin.com//7.2.3.1//EN
BEGIN:VEVENT
UID:127@ventureclub.cz
DTSTART;TZID=Europe/Prague:20191213T080000
DTEND;TZID=Europe/Prague:20191213T100000
DTSTAMP:20221007T074229Z
URL:https://ventureclub.cz/udalost/klubove-rano-14/
SUMMARY:Klubové ráno 14
DESCRIPTION:Zveme Vás na čtrnácté Klubové ráno - poslední letošní 
 neformální snídaňovou akci Venture Clubu do hotelu Jalta.\n\nJedním z
  hlavních přínosů našeho klubu je diskuze a předávání zkušenost
 í. Někdy kvůli nabitému programu většiny akcí nezůstane dostatek 
 času na neformální popovídání. Měníme to\, máme na sebe\, vždy d
 ruhé páteční ráno v měsíci\, čas.\n\nA protože se účastníci sn
 ídaní dohodli\, že se rádi znovu vidí\, potkávat se můžeme vždy 2
 . pátek v měsíci\, od 8:00 - 10:00\, v prostorách hotelové restaurac
 e Jalta na Václavském náměstí Praha 1.\n\nSnídaně se hradí na mí
 stě hotově\, 200 Kč členové a 250 Kč hosté. Úhrada zahrnuje bohat
 ý neomezený snídaňový bufet hotelu. Registrace na akci předem je vho
 dná\, děkujeme za pochopení.\n\n&nbsp\;
ATTACH;FMTTYPE=image/jpeg:https://ventureclub.cz/wp-content/uploads/2022/0
 8/Klubove_Rano_.jpg
CATEGORIES:Snídaně
LOCATION:Park Atrium u spol. 2N\, Pod Vinicí 2028/20\, Praha 12\, Česká 
 republika
GEO:50.0158484;14.404343599999947
X-APPLE-STRUCTURED-LOCATION;VALUE=URI;X-ADDRESS=Pod Vinicí 2028/20\, Praha
  12\, Česká republika;X-APPLE-RADIUS=100;X-TITLE=Park Atrium u spol. 2N:
 geo:50.0158484,14.404343599999947
END:VEVENT
BEGIN:VTIMEZONE
TZID:Europe/Prague
X-LIC-LOCATION:Europe/Prague
BEGIN:STANDARD
DTSTART:20191027T020000
TZOFFSETFROM:+0200
TZOFFSETTO:+0100
TZNAME:CET
END:STANDARD
END:VTIMEZONE
END:VCALENDAR