BEGIN:VCALENDAR
VERSION:2.0
PRODID:-//wp-events-plugin.com//7.2.3.1//EN
BEGIN:VEVENT
UID:130@ventureclub.cz
DTSTART;TZID=Europe/Prague:20200110T080000
DTEND;TZID=Europe/Prague:20200110T100000
DTSTAMP:20221007T074229Z
URL:https://ventureclub.cz/udalost/klubove-rano-15/
SUMMARY:Klubové ráno 15
DESCRIPTION:Zveme Vás na již patnácté\, v roce 2020 ale první\, Klubov
 é ráno - neformální snídaňovou akci Venture Clubu do hotelu Jalta.\n
 \nJedním z hlavních přínosů našeho klubu je diskuze a předávání 
 zkušeností. Někdy kvůli nabitému programu většiny akcí nezůstane 
 dostatek času na neformální popovídání. Měníme to\, máme na sebe\
 , vždy druhé páteční ráno v měsíci\, čas.\n\nA protože se účas
 tníci snídaní dohodli\, že se rádi znovu vidí\, potkávat se můžem
 e vždy 2. pátek v měsíci\, od 8:00 - 10:00\, v prostorách hotelové 
 restaurace Jalta na Václavském náměstí Praha 1.\n\nSnídaně se hrad
 í na místě hotově\, 200 Kč členové a 250 Kč hosté. Úhrada zahrnu
 je bohatý neomezený snídaňový bufet hotelu. Registrace na akci přede
 m je vhodná\, ať připravíme dost míst u stolu.\n\n&nbsp\;
ATTACH;FMTTYPE=image/jpeg:https://ventureclub.cz/wp-content/uploads/2022/0
 8/Klubove_Rano_.jpg
CATEGORIES:Snídaně
LOCATION:Jalta Boutique Hotel\, Václavské nám. 818/45\, Praha 1\, CZ\, 1
 1000\, Praha 1\, Česká republika
GEO:50.0811995;14.428557100000035
X-APPLE-STRUCTURED-LOCATION;VALUE=URI;X-ADDRESS=Václavské nám. 818/45\, 
 Praha 1\, CZ\, 11000\, Praha 1\, Česká republika;X-APPLE-RADIUS=100;X-TI
 TLE=Jalta Boutique Hotel:geo:50.0811995,14.428557100000035
END:VEVENT
BEGIN:VTIMEZONE
TZID:Europe/Prague
X-LIC-LOCATION:Europe/Prague
BEGIN:STANDARD
DTSTART:20191027T020000
TZOFFSETFROM:+0200
TZOFFSETTO:+0100
TZNAME:CET
END:STANDARD
END:VTIMEZONE
END:VCALENDAR