BEGIN:VCALENDAR
VERSION:2.0
PRODID:-//wp-events-plugin.com//7.2.3.1//EN
BEGIN:VEVENT
UID:135@ventureclub.cz
DTSTART;TZID=Europe/Prague:20200214T080000
DTEND;TZID=Europe/Prague:20200214T100000
DTSTAMP:20221007T074230Z
URL:https://ventureclub.cz/udalost/klubove-rano-16/
SUMMARY:Klubové ráno 16
DESCRIPTION:Zveme Vás na 16. snídani Venture Clubu\, která se koná v p
 átek ráno v hotelu Jalta.\n\nJedním z hlavních přínosů našeho klub
 u je diskuze a předávání zkušeností. Někdy kvůli nabitému program
 u většiny akcí nezůstane dostatek času na neformální popovídání.
  Klubové snídaně se tak staly místem\, kde máme čas a prostor probra
 t vývoj investic\, nové projekty ucházející se o získání investora
  a další plány a nápady pro klub do budoucna.  Zároveň se více poz
 náme\, což přispívá k příjemné atmosféře v klubu.\n\nSnídaně s
 e konají pravidelně 2. pátek v měsíci od 8:00-10:00 hod.\, vždy v pr
 ostorách hotelové restaurace Jalta na Václavském náměstí Praha 1.\n
 \nSnídaně se hradí na místě hotově\, 200 Kč členové a 250 Kč ho
 sté. Úhrada zahrnuje bohatý neomezený snídaňový bufet hotelu. Regis
 trace na akci předem je vhodná\, děkujeme za pochopení.
ATTACH;FMTTYPE=image/jpeg:https://ventureclub.cz/wp-content/uploads/2022/0
 8/Klubove_Rano_.jpg
CATEGORIES:Snídaně
LOCATION:Jalta Boutique Hotel\, Václavské nám. 818/45\, Praha 1\, CZ\, 1
 1000\, Praha 1\, Česká republika
GEO:50.0811995;14.428557100000035
X-APPLE-STRUCTURED-LOCATION;VALUE=URI;X-ADDRESS=Václavské nám. 818/45\, 
 Praha 1\, CZ\, 11000\, Praha 1\, Česká republika;X-APPLE-RADIUS=100;X-TI
 TLE=Jalta Boutique Hotel:geo:50.0811995,14.428557100000035
END:VEVENT
BEGIN:VTIMEZONE
TZID:Europe/Prague
X-LIC-LOCATION:Europe/Prague
BEGIN:STANDARD
DTSTART:20191027T020000
TZOFFSETFROM:+0200
TZOFFSETTO:+0100
TZNAME:CET
END:STANDARD
END:VTIMEZONE
END:VCALENDAR