BEGIN:VCALENDAR
VERSION:2.0
PRODID:-//wp-events-plugin.com//7.2.3.1//EN
BEGIN:VEVENT
UID:140@ventureclub.cz
DTSTART;TZID=Europe/Prague:20200313T080000
DTEND;TZID=Europe/Prague:20200313T100000
DTSTAMP:20221007T074243Z
URL:https://ventureclub.cz/udalost/klubove-rano-17/
SUMMARY:Klubové ráno 17 - ZRUŠENO
DESCRIPTION:S lítostí vám musíme oznámit\, že jsme z důvodu vyhláš
 eného stavu nouze nuceni akci zrušit. O změně termínů budete informo
 vání.\n\nZveme Vás na 17. snídani Venture Clubu\, která se koná v p
 átek ráno v hotelu Jalta.\n\nJedním z hlavních přínosů našeho klub
 u je diskuze a předávání zkušeností. Někdy kvůli nabitému program
 u většiny akcí nezůstane dostatek času na neformální popovídání.
  Klubové snídaně se tak staly místem\, kde máme čas a prostor probra
 t vývoj investic\, nové projekty ucházející se o získání investora
  a další plány a nápady pro klub do budoucna.  Zároveň se více poz
 náme\, což přispívá k příjemné atmosféře v klubu.\n\nSnídaně s
 e konají pravidelně 2. pátek v měsíci od 8:00-10:00 hod.\, dejte si j
 e předem do kalendáře. Potkáváme se v prostorách hotelové restaurac
 e Jalta na Václavském náměstí Praha 1.\n\nSnídaně se hradí na mí
 stě hotově\, 200 Kč členové a 250 Kč hosté. Úhrada zahrnuje bohat
 ý neomezený snídaňový bufet hotelu. Registrace na akci předem je vho
 dná\, děkujeme za pochopení.
ATTACH;FMTTYPE=image/jpeg:https://ventureclub.cz/wp-content/uploads/2022/0
 8/Klubove_Rano_.jpg
CATEGORIES:Snídaně
LOCATION:Jalta Boutique Hotel\, Václavské nám. 818/45\, Praha 1\, CZ\, 1
 1000\, Praha 1\, Česká republika
GEO:50.0811995;14.428557100000035
X-APPLE-STRUCTURED-LOCATION;VALUE=URI;X-ADDRESS=Václavské nám. 818/45\, 
 Praha 1\, CZ\, 11000\, Praha 1\, Česká republika;X-APPLE-RADIUS=100;X-TI
 TLE=Jalta Boutique Hotel:geo:50.0811995,14.428557100000035
END:VEVENT
BEGIN:VTIMEZONE
TZID:Europe/Prague
X-LIC-LOCATION:Europe/Prague
BEGIN:STANDARD
DTSTART:20191027T020000
TZOFFSETFROM:+0200
TZOFFSETTO:+0100
TZNAME:CET
END:STANDARD
END:VTIMEZONE
END:VCALENDAR