BEGIN:VCALENDAR
VERSION:2.0
PRODID:-//wp-events-plugin.com//7.2.3.1//EN
BEGIN:VEVENT
UID:218@ventureclub.cz
DTSTART;TZID=Europe/Prague:20211008T080000
DTEND;TZID=Europe/Prague:20211008T100000
DTSTAMP:20221007T082345Z
URL:https://ventureclub.cz/udalost/klubove-rano-33/
SUMMARY:Klubové ráno 33
DESCRIPTION:Zveme Vás na 33. snídani Venture Clubu\, která se koná bě
 žně druhý pátek v měsíci\, mimo prázdnin\, a bude stejné\, jako mi
 nule: Národní kavárna. Jako vždy projdeme\, co je nového a rádi se s
  Vámi uvidíme. \n\nJedním z hlavních přínosů našeho klubu je disk
 uze a předávání zkušeností. Někdy kvůli nabitému programu větši
 ny akcí nezůstane dostatek času na neformální popovídání. Klubové
  snídaně se tak staly místem\, kde máme čas a prostor probrat vývoj 
 investic\, nové projekty ucházející se o získání investora a dalš
 í plány a nápady pro klub do budoucna.  Zároveň se více poznáme\, 
 což přispívá k příjemné atmosféře v klubu.\n\nSnídaně se konaj
 í pravidelně 2. pátek v měsíci od 8:00-10:00 hod.\, dejte si je před
 em do kalendáře. Potkáváme-li se online\, pak trvají 8:00-9:30 hodin.
 \n\nSnídaně se hradí na místě hotově\, 200 Kč členové a 400 Kč h
 osté. ONLINE účast je zdarma. Registrace na akci předem je nutná\, po
 čet míst omezen\, děkujeme za pochopení.\n\nTěšíme se na viděnou.\
 n\nPetr Šedivý
ATTACH;FMTTYPE=image/jpeg:https://ventureclub.cz/wp-content/uploads/2022/0
 8/Klubove_Rano_.jpg
CATEGORIES:Snídaně
LOCATION:Národní kavárna\, Národní 339/11\, Praha 1\, 11000\, Česká 
 republika
GEO:50.081682;14.415992
X-APPLE-STRUCTURED-LOCATION;VALUE=URI;X-ADDRESS=Národní 339/11\, Praha 1\
 , 11000\, Česká republika;X-APPLE-RADIUS=100;X-TITLE=Národní kavárna:
 geo:50.081682,14.415992
END:VEVENT
BEGIN:VTIMEZONE
TZID:Europe/Prague
X-LIC-LOCATION:Europe/Prague
BEGIN:DAYLIGHT
DTSTART:20210328T030000
TZOFFSETFROM:+0100
TZOFFSETTO:+0200
TZNAME:CEST
END:DAYLIGHT
END:VTIMEZONE
END:VCALENDAR