BEGIN:VCALENDAR
VERSION:2.0
PRODID:-//wp-events-plugin.com//7.2.3.1//EN
BEGIN:VEVENT
UID:217@ventureclub.cz
DTSTART;TZID=Europe/Prague:20211112T080000
DTEND;TZID=Europe/Prague:20211112T100000
DTSTAMP:20221007T082405Z
URL:https://ventureclub.cz/udalost/klubove-rano-34/
SUMMARY:Klubové ráno 34
DESCRIPTION:Zveme Vás na 34. snídani Venture Clubu\, která se koná bě
 žně druhý pátek v měsíci\, mimo prázdnin\, a bude - pokud to půjde
  - opět osobně. Místo již bude tradiční - Národní kavárna. Projde
 me\, co je nového a rádi se s Vámi uvidíme.\n\nJedním z hlavních př
 ínosů našeho klubu je diskuze a předávání zkušeností. Někdy kvů
 li nabitému programu většiny akcí nezůstane dostatek času na neform
 ální popovídání. Klubové snídaně se tak staly místem\, kde máme 
 čas a prostor probrat vývoj investic\, nové projekty ucházející se o
  získání investora a další plány a nápady pro klub do budoucna.  Z
 ároveň se více poznáme\, což přispívá k příjemné atmosféře v 
 klubu.\n\nSnídaně se konají pravidelně 2. pátek v měsíci od 8:00-10
 :00 hod.\, dejte si je předem do kalendáře. Potkáváme-li se online\, 
 pak trvají 8:00-9:30 hodin.\n\nSnídaně se hradí na místě hotově\, 2
 00 Kč členové a 400 Kč hosté. ONLINE účast je zdarma. Registrace na
  akci předem je nutná\, počet míst omezen.\n\nPoznámka: Pokud se na
 šich akcí účastníte předpokládáme\, že jste očkovaní\, po prod
 ělaném onemocnění covid19\, nebo máte negativní test. V každém př
 ípadu se ale cítíte zdrávi. Děkujeme.
ATTACH;FMTTYPE=image/jpeg:https://ventureclub.cz/wp-content/uploads/2022/0
 8/Klubove_Rano_.jpg
CATEGORIES:Snídaně
LOCATION:Národní kavárna\, Národní 339/11\, Praha 1\, 11000\, Česká 
 republika
GEO:50.081682;14.415992
X-APPLE-STRUCTURED-LOCATION;VALUE=URI;X-ADDRESS=Národní 339/11\, Praha 1\
 , 11000\, Česká republika;X-APPLE-RADIUS=100;X-TITLE=Národní kavárna:
 geo:50.081682,14.415992
END:VEVENT
BEGIN:VTIMEZONE
TZID:Europe/Prague
X-LIC-LOCATION:Europe/Prague
BEGIN:STANDARD
DTSTART:20211031T020000
TZOFFSETFROM:+0200
TZOFFSETTO:+0100
TZNAME:CET
END:STANDARD
END:VTIMEZONE
END:VCALENDAR