BEGIN:VCALENDAR
VERSION:2.0
PRODID:-//wp-events-plugin.com//7.2.3.1//EN
BEGIN:VEVENT
UID:216@ventureclub.cz
DTSTART;TZID=Europe/Prague:20211210T080000
DTEND;TZID=Europe/Prague:20211210T093000
DTSTAMP:20221007T082151Z
URL:https://ventureclub.cz/udalost/klubove-rano-35/
SUMMARY:Klubové ráno 35 ON-LINE
DESCRIPTION:Zveme Vás na 35. snídani Venture Clubu\, která se koná bě
 žně druhý pátek v měsíci\, poslední letošní\, a bude - on-line. J
 ako vždy ale\, projdeme\, co je nového a rádi se s Vámi uvidíme. Do n
 árodní kavárny se podíváme později.\n\nJedním z hlavních přínos
 ů našeho klubu je diskuze a předávání zkušeností. Někdy kvůli na
 bitému programu většiny akcí nezůstane dostatek času na neformální
  popovídání. Klubové snídaně se tak staly místem\, kde máme čas a
  prostor probrat vývoj investic\, nové projekty ucházející se o získ
 ání investora a další plány a nápady pro klub do budoucna.  Zárove
 ň se více poznáme\, což přispívá k příjemné atmosféře v klubu.
 \n\nSnídaně se konají pravidelně 2. pátek v měsíci od 8:00-10:00 ho
 d.\, dejte si je předem do kalendáře. Potkáváme-li se online\, pak tr
 vají 8:00-9:30 hodin.\n\nSnídaně se hradí na místě hotově\, 200 Kč
  členové a 400 Kč hosté. ONLINE účast (pokud by se konala) je zdarma
 . Registrace na akci předem je nutná\, počet míst omezen.\n\nPoznámka
 : Pokud se našich akcí účastníte předpokládáme\, že jste očkova
 ní\, po prodělaném onemocnění covid19\, nebo máte negativní test. V
  každém případu se ale cítíte zdrávi. Děkujeme.
ATTACH;FMTTYPE=image/jpeg:https://ventureclub.cz/wp-content/uploads/2022/0
 8/Klubove_Rano_.jpg
CATEGORIES:Snídaně
LOCATION:Microsoft Teams Meeting\, online\, Praha 1\, Česká republika
GEO:50.0887101;14.4155981
X-APPLE-STRUCTURED-LOCATION;VALUE=URI;X-ADDRESS=online\, Praha 1\, Česká 
 republika;X-APPLE-RADIUS=100;X-TITLE=Microsoft Teams Meeting:geo:50.088710
 1,14.4155981
END:VEVENT
BEGIN:VTIMEZONE
TZID:Europe/Prague
X-LIC-LOCATION:Europe/Prague
BEGIN:STANDARD
DTSTART:20211031T020000
TZOFFSETFROM:+0200
TZOFFSETTO:+0100
TZNAME:CET
END:STANDARD
END:VTIMEZONE
END:VCALENDAR