BEGIN:VCALENDAR
VERSION:2.0
PRODID:-//wp-events-plugin.com//7.2.3.1//EN
BEGIN:VEVENT
UID:209@ventureclub.cz
DTSTART;TZID=Europe/Prague:20220610T080000
DTEND;TZID=Europe/Prague:20220610T100000
DTSTAMP:20221007T082524Z
URL:https://ventureclub.cz/udalost/klubove-rano-41/
SUMMARY:Klubové ráno 41
DESCRIPTION:Zveme Vás na 41. snídani Venture Clubu\, která se koná bě
 žně druhý pátek v měsíci\, opět osobně. Místo Národní kavárna.
  Jako vždy ale\, projdeme\, co je nového a rádi se s Vámi uvidíme. Je
  to poslední snídaně před prázdninami.\n\nJedním z hlavních příno
 sů našeho klubu je diskuze a předávání zkušeností. Někdy kvůli n
 abitému programu většiny akcí nezůstane dostatek času na neformáln
 í popovídání. Klubové snídaně se tak staly místem\, kde máme čas
  a prostor probrat vývoj investic\, nové projekty ucházející se o zí
 skání investora a další plány a nápady pro klub do budoucna.  Záro
 veň se více poznáme\, což přispívá k příjemné atmosféře v klub
 u.\n\nSnídaně se konají pravidelně 2. pátek v měsíci od 8:00-10:00 
 hod.\, dejte si je předem do kalendáře. Potkáváme-li se online\, pak 
 trvají 8:00-9:30 hodin.\n\nSnídaně se hradí na místě hotově\, 200 K
 č členové a 400 Kč hosté. Registrace na akci předem je nutná\, poč
 et míst omezen.\n\nPoznámka: Pokud se našich akcí účastníte předp
 okládáme\, že jste očkovaní\, po prodělaném onemocnění covid19\, 
 nebo máte negativní test. V každém případu se ale cítíte zdrávi. 
 Děkujeme.
ATTACH;FMTTYPE=image/jpeg:https://ventureclub.cz/wp-content/uploads/2022/0
 8/Klubove_Rano_.jpg
CATEGORIES:Snídaně
LOCATION:Národní kavárna\, Národní 339/11\, Praha 1\, 11000\, Česká 
 republika
GEO:50.081682;14.415992
X-APPLE-STRUCTURED-LOCATION;VALUE=URI;X-ADDRESS=Národní 339/11\, Praha 1\
 , 11000\, Česká republika;X-APPLE-RADIUS=100;X-TITLE=Národní kavárna:
 geo:50.081682,14.415992
END:VEVENT
BEGIN:VTIMEZONE
TZID:Europe/Prague
X-LIC-LOCATION:Europe/Prague
BEGIN:DAYLIGHT
DTSTART:20220327T030000
TZOFFSETFROM:+0100
TZOFFSETTO:+0200
TZNAME:CEST
END:DAYLIGHT
END:VTIMEZONE
END:VCALENDAR