BEGIN:VCALENDAR
VERSION:2.0
PRODID:-//wp-events-plugin.com//7.2.3.1//EN
BEGIN:VEVENT
UID:193@ventureclub.cz
DTSTART;TZID=Europe/Prague:20220909T080000
DTEND;TZID=Europe/Prague:20220909T100000
DTSTAMP:20221007T082547Z
URL:https://ventureclub.cz/udalost/klubove-rano-42/
SUMMARY:Klubové ráno 42
DESCRIPTION:Zveme Vás na 42. snídani Venture Clubu\, která se koná bě
 žně druhý pátek v měsíci\, opět osobně. Místo je Národní kavár
 na\, na Národní třídě\, Praha 1. Jako vždy ale\, projdeme\, co je no
 vého a rádi se s Vámi uvidíme či seznámíme. Po prázdninách zahaju
 jeme sedmý rok činnosti. Díky navýšení cen v pohostinství jsme muse
 li zvednout cenu i my - klub to  poslední dobou už příliš dotoval. D
 íky za pochopení. Platba je hotově na místě.\n\nJedním z hlavních p
 řínosů našeho klubu je diskuze a předávání zkušeností. Někdy kv
 ůli nabitému programu většiny akcí nezůstane dostatek času na nefor
 mální popovídání. Klubové snídaně se tak staly místem\, kde máme
  čas a prostor probrat vývoj investic\, nové projekty ucházející se 
 o získání investora a další plány a nápady pro klub do budoucna.  
 Zároveň se více poznáme\, což přispívá k příjemné atmosféře v
  klubu.\n\nSnídaně se konají pravidelně 2. pátek v měsíci od 8:00-1
 0:00 hod.\, dejte si je předem do kalendáře. Potkáváme-li se online\,
  pak trvají 8:00-9:30 hodin.\n\nSnídaně se hradí na místě hotově\, 
 400 Kč členové a 500 Kč hosté. Registrace na akci předem je nutná\,
  počet míst omezen.\n\nPoznámka: Pokud se našich akcí účastníte p
 ředpokládáme\, že jste očkovaní\, po prodělaném onemocnění covid
 19\, nebo máte negativní test. V každém případu se ale cítíte zdr
 ávi. Děkujeme.
ATTACH;FMTTYPE=image/jpeg:https://ventureclub.cz/wp-content/uploads/2022/0
 6/klubove-rano.jpg
CATEGORIES:Snídaně
LOCATION:Národní kavárna\, Národní 339/11\, Praha 1\, 11000\, Česká 
 republika
GEO:50.081682;14.415992
X-APPLE-STRUCTURED-LOCATION;VALUE=URI;X-ADDRESS=Národní 339/11\, Praha 1\
 , 11000\, Česká republika;X-APPLE-RADIUS=100;X-TITLE=Národní kavárna:
 geo:50.081682,14.415992
END:VEVENT
BEGIN:VTIMEZONE
TZID:Europe/Prague
X-LIC-LOCATION:Europe/Prague
BEGIN:DAYLIGHT
DTSTART:20220327T030000
TZOFFSETFROM:+0100
TZOFFSETTO:+0200
TZNAME:CEST
END:DAYLIGHT
END:VTIMEZONE
END:VCALENDAR