BEGIN:VCALENDAR
VERSION:2.0
PRODID:-//wp-events-plugin.com//7.2.3.1//EN
BEGIN:VEVENT
UID:362@ventureclub.cz
DTSTART;TZID=Europe/Prague:20221209T080000
DTEND;TZID=Europe/Prague:20221209T100000
DTSTAMP:20221202T093900Z
URL:https://ventureclub.cz/udalost/klubove-rano-45/
SUMMARY:Klubové ráno 45
DESCRIPTION:Zveme Vás na 45. snídani Venture Clubu\, poslední letošní 
 v roce 2022. Koná se opět druhý pátek v měsíci\, opět osobně. Mís
 to je Národní kavárna\, na Národní třídě\, Praha 1. Jako vždy ale
 \, projdeme\, co je nového a rádi se s Vámi uvidíme či seznámíme. P
 řihlášení předem nutné \;-)\n\nJedním z hlavních přínosů našeh
 o klubu je diskuze a předávání zkušeností. Někdy kvůli nabitému p
 rogramu většiny akcí nezůstane dostatek času na neformální popovíd
 ání. Klubové snídaně se tak staly místem\, kde máme čas a prostor 
 probrat vývoj investic\, nové projekty ucházející se o získání inv
 estora a další plány a nápady pro klub do budoucna.  Zároveň se ví
 ce poznáme\, což přispívá k příjemné atmosféře v klubu.\n\nSníd
 aně se konají pravidelně 2. pátek v měsíci od 8:00-10:00 hod.\, dejt
 e si je předem do kalendáře. Potkáváme-li se online\, pak trvají 8:0
 0-9:30 hodin.\n\nSnídaně se hradí na místě hotově\, 400 Kč členov
 é a 500 Kč hosté. Registrace na akci předem je nutná\, počet míst o
 mezen.\n\nPoznámka: Pokud se našich akcí účastníte předpokládáme
 \, že jste očkovaní\, po prodělaném onemocnění covid19\, nebo máte
  negativní test. V každém případu se ale cítíte zdrávi. Děkujeme.
ATTACH;FMTTYPE=image/jpeg:https://ventureclub.cz/wp-content/uploads/2022/0
 6/klubove-rano.jpg
CATEGORIES:Snídaně
LOCATION:Národní kavárna\, Národní 339/11\, Praha 1\, 11000\, Česká 
 republika
GEO:50.081682;14.415992
X-APPLE-STRUCTURED-LOCATION;VALUE=URI;X-ADDRESS=Národní 339/11\, Praha 1\
 , 11000\, Česká republika;X-APPLE-RADIUS=100;X-TITLE=Národní kavárna:
 geo:50.081682,14.415992
END:VEVENT
BEGIN:VTIMEZONE
TZID:Europe/Prague
X-LIC-LOCATION:Europe/Prague
BEGIN:STANDARD
DTSTART:20221030T020000
TZOFFSETFROM:+0200
TZOFFSETTO:+0100
TZNAME:CET
END:STANDARD
END:VTIMEZONE
END:VCALENDAR