BEGIN:VCALENDAR
VERSION:2.0
PRODID:-//wp-events-plugin.com//7.2.3.1//EN
BEGIN:VEVENT
UID:388@ventureclub.cz
DTSTART;TZID=Europe/Prague:20230210T080000
DTEND;TZID=Europe/Prague:20230210T100000
DTSTAMP:20230209T102711Z
URL:https://ventureclub.cz/udalost/klubove-rano-47/
SUMMARY:Klubové ráno 47
DESCRIPTION:Zveme Vás na 47. snídani Venture Clubu. Koná se opět druhý
  pátek v měsíci\, opět osobně. Místo je ale jiné - CAFE LOUVRE\, N
 árodní 22\, Praha 1. Jako vždy ale\, projdeme\, co je nového a rádi s
 e s Vámi uvidíme či seznámíme. Přihlášení předem nutné \;-)\n\n
 Jedním z hlavních přínosů našeho klubu je diskuze a předávání zk
 ušeností. Někdy kvůli nabitému programu většiny akcí nezůstane do
 statek času na neformální popovídání. Klubové snídaně se tak stal
 y místem\, kde máme čas a prostor probrat vývoj investic\, nové proje
 kty ucházející se o získání investora a další plány a nápady pro
  klub do budoucna.  Zároveň se více poznáme\, což přispívá k př
 íjemné atmosféře v klubu.\n\nSnídaně se konají pravidelně 2. páte
 k v měsíci od 8:00-10:00 hod.\, dejte si je předem do kalendáře. Potk
 áváme-li se online\, pak trvají 8:00-9:30 hodin.\n\nSnídaně se hradí
  předem kartou a nebo na místě hotově\, 400 Kč členové a 500 Kč ho
 sté. Registrace na akci předem je nutná\, počet míst omezen.\n\nTěš
 íme se na viděnou.
ATTACH;FMTTYPE=image/jpeg:https://ventureclub.cz/wp-content/uploads/2022/0
 6/klubove-rano.jpg
CATEGORIES:Snídaně
LOCATION:Cafe Louvre\, Národní 22\, Praha 1\, Česká republika\, 19000\,
  Česká republika
GEO:50.081995;14.418788
X-APPLE-STRUCTURED-LOCATION;VALUE=URI;X-ADDRESS=Národní 22\, Praha 1\, Č
 eská republika\, 19000\, Česká republika;X-APPLE-RADIUS=100;X-TITLE=Caf
 e Louvre:geo:50.081995,14.418788
END:VEVENT
BEGIN:VTIMEZONE
TZID:Europe/Prague
X-LIC-LOCATION:Europe/Prague
BEGIN:STANDARD
DTSTART:20221030T020000
TZOFFSETFROM:+0200
TZOFFSETTO:+0100
TZNAME:CET
END:STANDARD
END:VTIMEZONE
END:VCALENDAR