BEGIN:VCALENDAR
VERSION:2.0
PRODID:-//wp-events-plugin.com//7.2.3.1//EN
BEGIN:VEVENT
UID:470@ventureclub.cz
DTSTART;TZID=Europe/Prague:20240112T080000
DTEND;TZID=Europe/Prague:20240112T100000
DTSTAMP:20231217T171731Z
URL:https://ventureclub.cz/udalost/klubove-rano-56/
SUMMARY:Klubové ráno 56
DESCRIPTION:Zveme Vás na 56. snídani Venture Clubu\, první v roce 2024. 
 Koná se opět druhý pátek v měsíci\, opět osobně. Místo Národní 
 Kavárna\, Praha 1. Jako vždy ale\, projdeme\, co je nového a rádi se s
  Vámi uvidíme či seznámíme. Přihlášení předem nutné \;-)\n\nJed
 ním z hlavních přínosů našeho klubu je diskuze a předávání zkuš
 eností. Někdy kvůli nabitému programu většiny akcí nezůstane dosta
 tek času na neformální popovídání. Klubové snídaně se tak staly m
 ístem\, kde máme čas a prostor probrat vývoj investic\, nové projekty
  ucházející se o získání investora a další plány a nápady pro kl
 ub do budoucna.  Zároveň se více poznáme\, což přispívá k příje
 mné atmosféře v klubu.\n\nSnídaně se konají pravidelně 2. pátek v 
 měsíci od 8:00-10:00 hod.\, dejte si je předem do kalendáře. Potkáv
 áme-li se online\, pak trvají 8:00-9:30 hodin.\n\nSnídaně se hradí p
 ředem kartou\, převodem a nebo na místě hotově či QR kódem\, 400 K
 č členové a 500 Kč hosté. Registrace na akci předem je nutná\, poč
 et míst omezen.\n\nTěšíme se na viděnou.
ATTACH;FMTTYPE=image/jpeg:https://ventureclub.cz/wp-content/uploads/2022/0
 6/klubove-rano.jpg
CATEGORIES:Snídaně
LOCATION:Národní kavárna\, Národní 339/11\, Praha 1\, 11000\, Česká 
 republika
GEO:50.081682;14.415992
X-APPLE-STRUCTURED-LOCATION;VALUE=URI;X-ADDRESS=Národní 339/11\, Praha 1\
 , 11000\, Česká republika;X-APPLE-RADIUS=100;X-TITLE=Národní kavárna:
 geo:50.081682,14.415992
END:VEVENT
BEGIN:VTIMEZONE
TZID:Europe/Prague
X-LIC-LOCATION:Europe/Prague
BEGIN:STANDARD
DTSTART:20231029T020000
TZOFFSETFROM:+0200
TZOFFSETTO:+0100
TZNAME:CET
END:STANDARD
END:VTIMEZONE
END:VCALENDAR