BEGIN:VCALENDAR
VERSION:2.0
PRODID:-//wp-events-plugin.com//7.2.3.1//EN
BEGIN:VEVENT
UID:520@ventureclub.cz
DTSTART;TZID=Europe/Prague:20240913T080000
DTEND;TZID=Europe/Prague:20240913T100000
DTSTAMP:20240912T171628Z
URL:https://ventureclub.cz/udalost/klubove-rano-62/
SUMMARY:Klubové ráno 62
DESCRIPTION:Zveme Vás na 62. snídani Venture Clubu\, první po prázdnin
 ách a v nové lokaci - u Červeného Jelena v Hybernské ulici. Koná se 
 opět druhý pátek v měsíci\, opět osobně. Jako vždy ale\, projdeme\
 , co je nového a rádi se s Vámi uvidíme či seznámíme. Přihlášen
 í předem nutné \;-)\n\nJedním z hlavních přínosů našeho klubu je 
 diskuze a předávání zkušeností. Někdy kvůli nabitému programu vě
 tšiny akcí nezůstane dostatek času na neformální popovídání. Klub
 ové snídaně se tak staly místem\, kde máme čas a prostor probrat vý
 voj investic\, nové projekty ucházející se o získání investora a da
 lší plány a nápady pro klub do budoucna.  Zároveň se více poznáme
 \, což přispívá k příjemné atmosféře v klubu.\n\nSnídaně se kon
 ají pravidelně 2. pátek v měsíci od 8:00-10:00 hod.\, dejte si je př
 edem do kalendáře.\n\nSnídaně se hradí předem kartou\, převodem a n
 ebo na místě hotově či QR kódem\, 400 Kč členové a 500 Kč hosté.
  Registrace na akci předem je nutná\, počet míst omezen.\n\nTěšíme 
 se na viděnou v Salonku Špork\, Červený Jelen\, Praha 1. (Vchod je vpr
 avo od hlavního vchodu do Červeného Jelena\,  přes recepci Špork\, H
 ybernská ulice č.5)
ATTACH;FMTTYPE=image/jpeg:https://ventureclub.cz/wp-content/uploads/2022/0
 6/klubove-rano.jpg
CATEGORIES:Snídaně
END:VEVENT
BEGIN:VTIMEZONE
TZID:Europe/Prague
X-LIC-LOCATION:Europe/Prague
BEGIN:DAYLIGHT
DTSTART:20240331T030000
TZOFFSETFROM:+0100
TZOFFSETTO:+0200
TZNAME:CEST
END:DAYLIGHT
END:VTIMEZONE
END:VCALENDAR