BEGIN:VCALENDAR
VERSION:2.0
PRODID:-//wp-events-plugin.com//7.2.3.1//EN
BEGIN:VEVENT
UID:561@ventureclub.cz
DTSTART;TZID=Europe/Prague:20250314T080000
DTEND;TZID=Europe/Prague:20250314T100000
DTSTAMP:20250109T092736Z
URL:https://ventureclub.cz/udalost/klubove-rano-68/
SUMMARY:Klubové ráno 68
DESCRIPTION:Zveme Vás na 68. snídani Venture Clubu\, ve známé lokalitě
  - Kavárna na Národní\, Národní 11\, Praha 1 . Koná se opět druhý 
 pátek v měsíci\, opět osobně. Jako vždy ale\, projdeme\, co je a rá
 di se s Vámi uvidíme či seznámíme. Přihlášení předem nutné \;-)
 \n\nJedním z hlavních přínosů našeho klubu je diskuze a předáván
 í zkušeností. Někdy kvůli nabitému programu akcí nezůstane dostate
 k času na neformální popovídání. Klubové snídaně se tak staly mí
 stem\, kde máme čas a prostor probrat vývoj investic\, nové projekty p
 řicházející se o získání investora a další plány a nápady pro k
 lub do budoucna. Zároveň se více poznám\, což spolupracovníci k př
 íjemné atmosféře v klubu.\n\nSnídaně se konají pravidelně 2. páte
 k v měsíci od 8:00-10:00 hod.\, dejte si je předem do kalendáře.\n\nS
 nídaně se platí předem kartou\, převodem a nebo na místě hotově č
 i QR kódem\, 400 Kč členové a 500 Kč hosté. Registrace na akci před
 em je nutná\, počet míst omezen na 24.\n\nTěšíme se na viděnou na N
 árodní :-)
ATTACH;FMTTYPE=image/jpeg:https://ventureclub.cz/wp-content/uploads/2022/0
 6/klubove-rano.jpg
CATEGORIES:Snídaně
LOCATION:Národní kavárna\, Národní 339/11\, Praha 1\, 11000\, Česká 
 republika
GEO:50.081682;14.415992
X-APPLE-STRUCTURED-LOCATION;VALUE=URI;X-ADDRESS=Národní 339/11\, Praha 1\
 , 11000\, Česká republika;X-APPLE-RADIUS=100;X-TITLE=Národní kavárna:
 geo:50.081682,14.415992
END:VEVENT
BEGIN:VTIMEZONE
TZID:Europe/Prague
X-LIC-LOCATION:Europe/Prague
BEGIN:STANDARD
DTSTART:20241027T020000
TZOFFSETFROM:+0200
TZOFFSETTO:+0100
TZNAME:CET
END:STANDARD
END:VTIMEZONE
END:VCALENDAR