BEGIN:VCALENDAR
VERSION:2.0
PRODID:-//wp-events-plugin.com//7.2.3.1//EN
BEGIN:VEVENT
UID:563@ventureclub.cz
DTSTART;TZID=Europe/Prague:20250516T080000
DTEND;TZID=Europe/Prague:20250516T100000
DTSTAMP:20250513T065349Z
URL:https://ventureclub.cz/udalost/klubove-rano-70-2/
SUMMARY:Klubové ráno 70
DESCRIPTION:Zveme Vás na 70. snídani Venture Clubu\, ve známé lokalitě
  - Kavárna na Národní\, Národní 11\, Praha 1 . Koná se mimořádně 
 třetí pátek v měsíci\, opět osobně. Jako vždy ale\, projdeme\, co 
 je a rádi se s Vámi uvidíme či seznámíme. Přihlášení předem nut
 né \;-)\n\nJedním z hlavních přínosů našeho klubu je diskuze a pře
 dávání zkušeností. Někdy kvůli nabitému programu akcí nezůstane 
 dostatek času na neformální popovídání. Klubové snídaně se tak st
 aly místem\, kde máme čas a prostor probrat vývoj investic\, nové pro
 jekty přicházející se o získání investora a další plány a nápad
 y pro klub do budoucna. Zároveň se více poznám\, což spolupracovníci
  k příjemné atmosféře v klubu.\n\nSnídaně se konají pravidelně 2.
  pátek v měsíci od 8:00-10:00 hod.\, dejte si je předem do kalendáře
 .\n\nSnídaně se platí předem kartou\, převodem a nebo na místě hoto
 vě či QR kódem\, 400 Kč členové a 500 Kč hosté. Registrace na akci
  předem je nutná\, počet míst omezen na 24.\n\nTěšíme se na viděno
 u na Národní :-)
ATTACH;FMTTYPE=image/jpeg:https://ventureclub.cz/wp-content/uploads/2022/0
 6/klubove-rano.jpg
CATEGORIES:Snídaně
LOCATION:Národní kavárna\, Národní 339/11\, Praha 1\, 11000\, Česká 
 republika
GEO:50.081682;14.415992
X-APPLE-STRUCTURED-LOCATION;VALUE=URI;X-ADDRESS=Národní 339/11\, Praha 1\
 , 11000\, Česká republika;X-APPLE-RADIUS=100;X-TITLE=Národní kavárna:
 geo:50.081682,14.415992
END:VEVENT
BEGIN:VTIMEZONE
TZID:Europe/Prague
X-LIC-LOCATION:Europe/Prague
BEGIN:DAYLIGHT
DTSTART:20250330T030000
TZOFFSETFROM:+0100
TZOFFSETTO:+0200
TZNAME:CEST
END:DAYLIGHT
END:VTIMEZONE
END:VCALENDAR