BEGIN:VCALENDAR
VERSION:2.0
PRODID:-//wp-events-plugin.com//7.2.3.1//EN
BEGIN:VEVENT
UID:568@ventureclub.cz
DTSTART;TZID=Europe/Prague:20251212T080000
DTEND;TZID=Europe/Prague:20251212T100000
DTSTAMP:20251127T114132Z
URL:https://ventureclub.cz/udalost/klubove-rano-75/
SUMMARY:Klubové ráno 75
DESCRIPTION:Zveme Vás na poslední snídani Venture Clubu tohoto roku s č
 íslem 75.\, ve známé lokalitě - Kavárna na Národní\, Národní 11\,
  Praha 1 . Koná se druhý pátek v měsíci\, opět osobně. Jako vždy a
 le\, projdeme\, co je a rádi se s Vámi uvidíme či seznámíme. Přihl
 ášení předem nutné \;-)\n\nJedním z hlavních přínosů našeho klu
 bu je diskuze a předávání zkušeností. Někdy kvůli nabitému progra
 mu akcí nezůstane dostatek času na neformální popovídání. Klubové
  snídaně se tak staly místem\, kde máme čas a prostor probrat vývoj 
 investic\, nové projekty přicházející se o získání investora a dal
 ší plány a nápady pro klub do budoucna. Zároveň se více poznám\, c
 ož spolupracovníci k příjemné atmosféře v klubu.\n\nSnídaně se ko
 nají pravidelně 2. pátek v měsíci od 8:00-10:00 hod.\, dejte si je p
 ředem do kalendáře.\n\nSnídaně se platí předem kartou\, převodem a
  nebo na místě hotově či QR kódem\, 400 Kč členové a 500 Kč host
 é. Registrace na akci předem je nutná\, počet míst omezen na 24.\n\nT
 ěšíme se na viděnou na Národní :-)
ATTACH;FMTTYPE=image/jpeg:https://ventureclub.cz/wp-content/uploads/2022/0
 6/klubove-rano.jpg
CATEGORIES:Snídaně
LOCATION:Národní kavárna\, Národní 339/11\, Praha 1\, 11000\, Česká 
 republika
GEO:50.081682;14.415992
X-APPLE-STRUCTURED-LOCATION;VALUE=URI;X-ADDRESS=Národní 339/11\, Praha 1\
 , 11000\, Česká republika;X-APPLE-RADIUS=100;X-TITLE=Národní kavárna:
 geo:50.081682,14.415992
END:VEVENT
BEGIN:VTIMEZONE
TZID:Europe/Prague
X-LIC-LOCATION:Europe/Prague
BEGIN:STANDARD
DTSTART:20251026T020000
TZOFFSETFROM:+0200
TZOFFSETTO:+0100
TZNAME:CET
END:STANDARD
END:VTIMEZONE
END:VCALENDAR