BEGIN:VCALENDAR
VERSION:2.0
PRODID:-//wp-events-plugin.com//7.2.3.1//EN
BEGIN:VEVENT
UID:233@ventureclub.cz
DTSTART;TZID=Europe/Prague:20220125T180000
DTEND;TZID=Europe/Prague:20220125T203000
DTSTAMP:20221007T074307Z
URL:https://ventureclub.cz/udalost/lednovy-vanocni-punc/
SUMMARY:Lednový "Vánoční" punč
DESCRIPTION:Tradiční vánoční posezení s punčem a povídáním\, jsme
  museli v prosinci změnit ale slíbili jsme si\, že se potkáme v náhra
 dním termínu. Je to tady - akce proběhne od 18 hodin\, 25.1.2021\, v s
 ídle klubu\, paláci Konvikt.  Výborný punč zajišťují už tradičn
 ě Markovi\, těšit se můžete i na drobné občerstvení. Přijďte poz
 dravit známé.\n\nDruhý důvod\, proč se zastavit\, může být i před
 ávání kmenových listů pro investici do firmy Greenbudies Charging. Bu
 de to historicky poprvé\, kdy se celá emise listů vyprodala a po před
 ání a rubopisování dojde i k zápisu investorů do obchodního rejstř
 íku. Mimochodem\, společnost investorů jsme z "ABC Space" přejmenovali
  na jednoznačnější Venture Club Charging s.r.o.\n\nA komu to nevyjde\,
  nevadí\, předáme kmenové listy při nejbližší další příležito
 sti. Tak hezký nový rok a na viděnou\n\npřeje za Venture Club\n\nPetr 
 Šedivý\n\nPS: počet míst omezen\, určitě se včas přihlaste. Děkuj
 eme za pochopení.\n\nPoznámka: Pokud se našich akcí účastníte pře
 dpokládáme\, že jste očkovaní\, po prodělaném onemocnění covid19\
 , nebo máte negativní test. V každém případu se ale cítíte zdrávi
 . Děkujeme.
ATTACH;FMTTYPE=image/jpeg:https://ventureclub.cz/wp-content/uploads/2022/0
 8/2018-12-18-18.45.07-e1564406033657-1-scaled.jpg
CATEGORIES:Společenská akce
LOCATION:palác Konvikt\, Bartolomějská 11\, Praha 1\, Praha\, hlavní m
 ěsto\, 110 00\, Česká republika
GEO:50.0830744;14.4175702
X-APPLE-STRUCTURED-LOCATION;VALUE=URI;X-ADDRESS=Bartolomějská 11\, Praha 
 1\, Praha\, hlavní město\, 110 00\, Česká republika;X-APPLE-RADIUS=100
 ;X-TITLE=palác Konvikt:geo:50.0830744,14.4175702
END:VEVENT
BEGIN:VTIMEZONE
TZID:Europe/Prague
X-LIC-LOCATION:Europe/Prague
BEGIN:STANDARD
DTSTART:20211031T020000
TZOFFSETFROM:+0200
TZOFFSETTO:+0100
TZNAME:CET
END:STANDARD
END:VTIMEZONE
END:VCALENDAR