BEGIN:VCALENDAR
VERSION:2.0
PRODID:-//wp-events-plugin.com//7.2.3.1//EN
BEGIN:VEVENT
UID:604@ventureclub.cz
DTSTART;TZID=Europe/Prague:20250715T165000
DTEND;TZID=Europe/Prague:20250715T215000
DTSTAMP:20250707T092235Z
URL:https://ventureclub.cz/udalost/letni-prazdninova-akce-1/
SUMMARY:Letní prázdninová akce 1 Žižkovem s Radimem
DESCRIPTION:Přátelé\, první prázdninová akce se blíží\, dejte si j
 i do kalendáře.  Půjdeme na procházku Žižkovem s Radimem Horákem. 
 Nebojte se\, hodinku a půl\, dvě a poté zajdeme na něco dobrého a pop
 ovídat. Kdo jste byl minulé roky\, tušíte\,.. kdo ne\, stavte se\, za
 žijete. Přihlášení níže.\n\nProgram:\n\nSraz je v 17:00 nám. Jiř
 ího z Poděbrad\, u metra\n\n- 3 km procházka přes centrální Žižkov
 \, Vítkov\n\n- celkem 11 zastavení s informacemi o okolních zajímavost
 ech\n\n- konec procházky cca 19 hodin v Unijazzu\, drobné občerstvení\
 , nápoje\n\n- počítám s asi 20 - 25 lidmi\n\n&nbsp\;\n\nPosezení: Kav
 árna a čítárna Unijazz\, Husitská 22\, Praha 3\n\n&nbsp\;\n\nHezké l
 éto a na viděnou zde\, nebo v pak v srpnu\, 19.8.2025\, opět v úterý 
 na druhé letní akci. Standardní program pak pojede zase od září.\n\n
 Zdraví a těší se na viděnou\n\nPetr Šedivý\n\nP.S.\n\nÚčast po p
 řihlášení níže. Ceny vstupného jsou různé pro NEčleny (platí si
  větší část občerstvení)\, Základní členy (platí polovinu ceny 
 občerstvení) a Řádné členy (platí malý příspěvek na občerstven
 í). Účast jen na procházce "zdarma" bez platby dalšího programu nen
 í možná.\n\n&nbsp\;\n\n&nbsp\;
ATTACH;FMTTYPE=image/jpeg:https://ventureclub.cz/wp-content/uploads/2025/0
 6/A-scenic-walk-through-the-historic-center-of-Prague-at-sunset.-The-scene
 -includes-cobblestone-street.jpeg
CATEGORIES:Společenská akce
END:VEVENT
BEGIN:VTIMEZONE
TZID:Europe/Prague
X-LIC-LOCATION:Europe/Prague
BEGIN:DAYLIGHT
DTSTART:20250330T030000
TZOFFSETFROM:+0100
TZOFFSETTO:+0200
TZNAME:CEST
END:DAYLIGHT
END:VTIMEZONE
END:VCALENDAR