BEGIN:VCALENDAR
VERSION:2.0
PRODID:-//wp-events-plugin.com//7.2.3.1//EN
BEGIN:VEVENT
UID:605@ventureclub.cz
DTSTART;TZID=Europe/Prague:20250812T170000
DTEND;TZID=Europe/Prague:20250812T213000
DTSTAMP:20250729T095351Z
URL:https://ventureclub.cz/udalost/letni-prazdninova-akce-2-2/
SUMMARY:Letní prázdninová akce 2 - kopce\, kostely\, hradiště a chmel!
DESCRIPTION:Milí přátelé\, léto je v plném proudu a my vás srdečně
  zveme na  druhou prázdninovou akci: procházku Prokopským Údolím. Vy
 tvoříme příjemnou atmosféru plnou pohody\, smíchu a společných zá
 žitků. Přihlaste se.\n\n🌳 Procházka pražskou přírodou s dotekem 
 historie a přívětivým zakončením\n\nRádi bychom vás pozvali na př
 íjemnou procházku spojenou s poznáváním zajímavých míst v okolí P
 rahy. Sejdeme se u stanice metra Jinonice\, odkud se vydáme po žluté tu
 ristické trase přes Butovice ke kostelu sv. Vavřince.\n\nBěhem cesty o
 bkroužíme náhorní plošinu\, kde se dle historických pramenů nacház
 elo středověké hradiště – krásné místo pro chvíli zamyšlení i
  výhledy na okolí. Poté budeme pokračovat po žluté značce dolů do 
 Prokopského údolí\, které nabízí klid\, zeleň a působivou krajinu.
 \n\nNa závěr nás čeká zasloužený odpočinek v lokálním pivovaru v
  Klukovicích\, kde bude prostor pro neformální diskuzi a sdílení zá
 žitků. Zpět se vydáme tramvají na Barrandov.\n\n👟 Praktická pozn
 ámka: Trasa vede i z poměrně prudkého kopce\, proto doporučujeme poho
 dlnou sportovní obuv (tenisky či trekovou obuv). Společenské boty\, lo
 dičky a podpatky prosíme nechte doma – pohodlí bude tentokrát předn
 ější.\n\nÚčast po přihlášení níže. Ceny vstupného jsou různé
  pro NEčleny (platí si větší část občerstvení)\, Základní člen
 y (platí polovinu ceny občerstvení) a Řádné členy (platí malý př
 íspěvek na občerstvení). Vše platí pro jednu osobu. Host člena se p
 osuzuje jako NEčlen. Poznámka: klub zajišťuje průvodce\, vstup\, pros
 tor\, program\,  jídlo a nápoje na účastníka. \n\nHezké léto a na
  viděnou zde\, nebo pak zase od září. Druhý pátek v měsíci na sní
 daních a dva úterky večer.\n\nZdraví a těší se na viděnou\n\nPetr 
 Šedivý\n\n&nbsp\;\n\n&nbsp\;
ATTACH;FMTTYPE=image/jpeg:https://ventureclub.cz/wp-content/uploads/2025/0
 6/Copilot_20250723_160912.png
CATEGORIES:Společenská akce
LOCATION:Stanice metra B Jinonice\, Radlická 511\, Praha\, Česká republi
 ka
GEO:50.05455;14.370953
X-APPLE-STRUCTURED-LOCATION;VALUE=URI;X-ADDRESS=Radlická 511\, Praha\, Če
 ská republika;X-APPLE-RADIUS=100;X-TITLE=Stanice metra B Jinonice:geo:50.
 05455,14.370953
END:VEVENT
BEGIN:VTIMEZONE
TZID:Europe/Prague
X-LIC-LOCATION:Europe/Prague
BEGIN:DAYLIGHT
DTSTART:20250330T030000
TZOFFSETFROM:+0100
TZOFFSETTO:+0200
TZNAME:CEST
END:DAYLIGHT
END:VTIMEZONE
END:VCALENDAR