BEGIN:VCALENDAR
VERSION:2.0
PRODID:-//wp-events-plugin.com//7.2.3.1//EN
BEGIN:VEVENT
UID:433@ventureclub.cz
DTSTART;TZID=Europe/Prague:20230815T173000
DTEND;TZID=Europe/Prague:20230815T220000
DTSTAMP:20230811T130830Z
URL:https://ventureclub.cz/udalost/letni-prazdninova-akce-2-stefanikova-hv
 ezdarna/
SUMMARY:Letní prázdninová akce 2 - Štefánikova hvězdárna
DESCRIPTION:Přátelé\, 15.8. se sejdeme na Štefánikově hvězdárně na
  Petříně\, což je jedno ze tří míst v Praze\, kde se lze v Praze ob
 vykle podívat na oblohu.  (Druhé místo je rozsáhlou rekonstrukcí pro
 cházející Planetarium ve Stromovce - tam se půjde podívat až na podz
 im 2024. Třetí pak hvězdárna v Ďáblicích\, ta je otevřená.) Pří
 stupná je expozice hvězdárny a kopule s dalekohledy pro pozorování\, 
 pořady pro děti a veřejnost v kinosále hvězdárny. Nás zaujaly půlh
 odinové pořady pořady TIME ZERO a 5 PLANET (a 5 Planet si na klubové a
 kci pustíme).\n\nPokud přijdete\, dozvíte se více o dnešních znalost
 ech o vzniku vesmíru a jeho dalším vývoji. Představí se nám součas
 né teorie vesmíru jako celku i pohled do světa částic a experimentů 
 v laboratoři CERN. Čekají nás témata jako Velký třesk\, Velký krac
 h\, reliktní záření\, kvantová fyzika\, kosmologie\, teorie relativit
 y\, vznik Sluneční soustavy\, planety\, mimozemský život. Více na web
 u Planetum.cz\, \n\nPtali jsme se na doporučení k prohlídce vedoucího
  Štefánikovy hvězdárny\, RNDr. Tomáše Proseckého. Řekl nám:\n\n"T
 ypicky probíhá prohlídka tak\, že na začátku uvidíte pořad\, násl
 edně si jdete prohlížet hvězdárnu. Nejedeme v režimu hrad (organizov
 aná prohlídka)\, ale spíše v režimu galerie (volně si procházíte)\
 , kde u toho nejzajímavějšího (dalekohledy) jsou naši průvodci\, kte
 ří dalekohledy ovládají a vypráví vám o tom\, co v nich vidíte. T
 ypicky trvá návštěva (v případě jasného počasí) akorát tak hodi
 nu a půl."\n\n&nbsp\;\n\nPo výkladu a prohlídce pak zavítáme do již 
 známého Strahovského pivovaru\, kde nás bude čekat něco  dobrého k
  jídlu i pití. (Na výběr budou tři jídla\, upřesníme včas s těmi
 \, co se přihlásí.) A samozřejmě\, popovídáme co nového.\n\nProgra
 m:\n\n17:20 sraz u Štefánikovy hvězdárny na Petříně\n\n17:30 - 19:0
 0 prohlídka hvězdárny\n\n19:15 Strahovský pivovar\, večeře\n\nRegist
 race předem nutná\, v ceně vstupného je program ve hvězdárně a obč
 erstvení v pivovaru. Pro členy klubu: Řádné (full) členství až dva
  lístky na osobu v ceně členství\, pro členství "Základní - ekonom
 ické"  jeden lístek v ceně členství\, další lístky pak v kategori
 i hosté / nečleny vstupné 600 Kč (plné vstupné\, platba předem nutn
 á).\n\nKAPACITA PIVOVARU vyčerpána\, registrace uzavřené k 11.8.2023.
  Pokud chcete přijít na hvězdárnu - jste vítáni i tak. Místo v pivo
 varu ale je jen v případě\, že někdo odřekne. Děkujeme za pochopen
 í.\n\nHezké léto a na viděnou zde\, nebo pak nejdéle od září\, kdy
  pojede opět standardní program - kombinace investičních a společensk
 o-vzdělávacích akcí.\n\nZdraví\n\nPetr Šedivý\n\n&nbsp\;
ATTACH;FMTTYPE=image/jpeg:https://ventureclub.cz/wp-content/uploads/2023/0
 7/planetum.png
CATEGORIES:Společenská akce
END:VEVENT
BEGIN:VTIMEZONE
TZID:Europe/Prague
X-LIC-LOCATION:Europe/Prague
BEGIN:DAYLIGHT
DTSTART:20230326T030000
TZOFFSETFROM:+0100
TZOFFSETTO:+0200
TZNAME:CEST
END:DAYLIGHT
END:VTIMEZONE
END:VCALENDAR