BEGIN:VCALENDAR
VERSION:2.0
PRODID:-//wp-events-plugin.com//7.2.3.1//EN
BEGIN:VEVENT
UID:516@ventureclub.cz
DTSTART;TZID=Europe/Prague:20240813T173000
DTEND;TZID=Europe/Prague:20240813T230000
DTSTAMP:20240807T085337Z
URL:https://ventureclub.cz/udalost/letni-prazdninova-akce-2/
SUMMARY:Letní prázdninová akce 2: Peakforce u Červeného Jelena
DESCRIPTION:Přátelé\, druhá prázdninová akce má již jasné datum a 
 program\, dejte si ji do kalendáře.  Bude první DenD o prázdninách a
  podíváme se do zajímavého prostoru současně. Potkáme se u Červen
 ého Jelena\, v Hybernské ulici - prostoru původně prvorepublikové ban
 ky. Čeká nás velmi zajímavý projekt - Peakforce - call centrum bez op
 erátorů za podpory AI. \n\nKombinace prohlídky prostoru\, prezentace a
  networkingu s občerstvením na stejném místě - u Červeného Jelena.
   Prezentace bude v salonku pro až 40 osob\, v patře\, kde bude i přip
 ravený coffe-break. Večerní společenská část s občerstvením pak v
  prostoru Klubovny v suterénu - bývalého trezoru banky. Červený Jelen
  má nejvyšší kolonu na pivo v České Republice\, zásoby "Plzně" tak
  jistě budou dostatečné.\n\n\n\nMateriály k Peakforce budou zveřejně
 ny v pátek\, pár dnů před akcí. Projekt jsme viděli\, velmi se nám 
 líbí.\n\nTotiž: pracují pro více než 100 firem\, desítky operátor
 ů. Fungují podobně\, jako řidiči UBER a BOLT . Pracují protože moho
 u a chtějí. Výsledek? Lepší služba pro zákazníka\, za konkurencesc
 hopnou cenu. Pekaforce neplatí prostory a zastřeší vše platformou\, A
 I zpracováním hovorů\, návrhem skriptů. Spokojení operátoři\, kte
 ří si vydělají více\, než v klasickém pracovním poměru. Navíc\, 
 skvělý team. ...Velká ambice a dobrá  investiční příležitost \;-
 )\n\nProgram:\n\n17:30 - 18:00 sraz v salonku\, cofee break s malým obče
 rstvením\n\n18:00 - 18:30 prohlídka prostorů komplexu restaurace s výk
 ladem\n\n18:30 - 20:00 prezentacw Peakforce\, zajímavý projekt\, který 
 možná budeme investovat.\, prezentují Jan Kysela\, Tomáš Výlet - za
 kladatelé\n\n20:00 - 23:00 navážeme společenský večer v Klubovně re
 staurace\, s rautem. Host Luboš Nebesař\, CEO SANEZOO SE.\n\n&nbsp\;\n\n
 Účast po přihlášení níže. Ceny vstupného jsou různé pro NEčlen
 y (platí si větší část občerstvení)\, Základní členy (platí po
 lovinu ceny občerstvení) a Řádné členy (platí malý příspěvek na
  občerstvení). Vše platí pro jednu osobu. Host člena se posuzuje jako
  NEčlen. Poznámka: klub zajišťuje vstup\, prostor\, program\, cofee br
 eak\, jídlo a dva nápoje na účastníka. Ostatní si platí každý sá
 m.\n\nPro mimopražské/ty co nemohou přijít osobně je možnost sledova
 t část s prezentací PeakForce on-line\, bude 18:30-20:00 streamovaná.\
 n\nAkce je otevřená pro nové zájemce\, jen se přihlaste :-)\n\nHezké
  léto a na viděnou zde\, nebo v pak zase od září. Druhý pátek v mě
 síci na snídaních a dva úterky večer.\n\nZdraví a těší se na vid
 ěnou\n\nPetr Šedivý\n\n&nbsp\;\n\n&nbsp\;
ATTACH;FMTTYPE=image/jpeg:https://ventureclub.cz/wp-content/uploads/2024/0
 7/Snimek-obrazovky-2024-08-01-095620.png
CATEGORIES:Společenská akce
END:VEVENT
BEGIN:VTIMEZONE
TZID:Europe/Prague
X-LIC-LOCATION:Europe/Prague
BEGIN:DAYLIGHT
DTSTART:20240331T030000
TZOFFSETFROM:+0100
TZOFFSETTO:+0200
TZNAME:CEST
END:DAYLIGHT
END:VTIMEZONE
END:VCALENDAR