BEGIN:VCALENDAR
VERSION:2.0
PRODID:-//wp-events-plugin.com//7.2.3.1//EN
BEGIN:VEVENT
UID:201@ventureclub.cz
DTSTART;TZID=Europe/Prague:20220816T180000
DTEND;TZID=Europe/Prague:20220816T220000
DTSTAMP:20221007T074325Z
URL:https://ventureclub.cz/udalost/letni-prazdninova-akce-brevnovsky-klast
 erni-pivovar/
SUMMARY:Letní prázdninová akce - Břevnovský klášterní pivovar
DESCRIPTION:Přátelé\, 16.8. se sejdeme na Břevnově (akce potvrzena a o
 bjednána pro 30 lidí) - zahájíme prohlídkou pivovaru a fundovaným po
 vídáním o všem co s tím souvisí. Pak nás bude čekat připravené o
 bčerstvení (objednejte si dole jedno ze tří jídel\, které chcete) a 
 můžeme se zdržet až třeba do 23 hodin.\n\nDoporučujeme\, před akcí
  se můžete projít po areálu\, je tam krásné klášterní zahrada (pa
 rk) a má zahradní pavilon s galerii. Navštívit můžete kostel klášt
 era.  \n\nPodrobněji:\n\nVše je dohodnuto se sládkem Břevnovského p
 ivovaru. Prohlídka pivovaru bude od 18 hodin\, každý si hradí sám 200
 Kč/osobu\, trvá cca 50 minut. Uvidíme historická sklepení\, spilku\, 
 varnu\, nějaký 10 minutový film\, ochutnávka.\n\nOd 19 hodin jsme v Kl
 áštěrním šenku. Máme rezervaci pro 30 osob\, lze si vybrat jídlo: 
  1. konfitované kachní stehno\, zelí bílé a červené\, knedlíky\, n
 ebo  2. candát na másle\, cuketový salát\, brambor vařený\, nebo 3.
  vegetariánská volba: dýňové rizoto. Pití: 2 nápoje na osobu (kalku
 lačně jako 2 piva tj. 2x55) . Zajímavosti z Břevnovského kláštera: 
 zahrady\, prohlídka chrámu a krypty a další.  V Oranžérii na zahrad
 ě je Galerie\, otevřená čtvrtek až neděle 12-18 hodin. Adresa: Mark
 étská 28/1\, 169 01 Praha 6 – Břevnov\n\nProhlídka je zajištěna a 
 těšíme se na zajímavý výklad a hlavně\, příjemné setkání s Vá
 mi všemi. Určitě  přijde řeč i na novinky v projektech \;-)\n\nJako
  obvykle\, vstup po registraci předem. Pro členy klubu 1 lístek na osob
 u v ceně členství pro "Základní" členství\, 2 pro "Řádné" člens
 tví. Pro nečleny vstupné 500 Kč\, občerstvení v ceně vstupného. Vs
 tupné pivovar: 200 Kč hotově platí každý sám.\n\nPOZOR\, počet ú
 častníků omezen na 30 a je vhodné se hlásit včas\, uzávěrka 12.8. 
 ráno.\n\nHezké léto a na viděnou 16.8. Standardní program pojede zase
  od září\, včetně snídaní a obvykle dvou večerních akcí měsíč
 ně.\n\nZdraví\n\nPetr Šedivý a Radim Horák\n\n&nbsp\;
ATTACH;FMTTYPE=image/jpeg:https://ventureclub.cz/wp-content/uploads/2022/0
 8/pivovarbrevnov.png
CATEGORIES:Společenská akce
LOCATION:Břevnovský klášterní pivovar\, Markétská 28/1\, Praha 6\, 
 Česká republika
GEO:50.083771;14.35676
X-APPLE-STRUCTURED-LOCATION;VALUE=URI;X-ADDRESS=Markétská 28/1\, Praha 6\
 , Česká republika;X-APPLE-RADIUS=100;X-TITLE=Břevnovský klášterní p
 ivovar:geo:50.083771,14.35676
END:VEVENT
BEGIN:VTIMEZONE
TZID:Europe/Prague
X-LIC-LOCATION:Europe/Prague
BEGIN:DAYLIGHT
DTSTART:20220327T030000
TZOFFSETFROM:+0100
TZOFFSETTO:+0200
TZNAME:CEST
END:DAYLIGHT
END:VTIMEZONE
END:VCALENDAR