BEGIN:VCALENDAR
VERSION:2.0
PRODID:-//wp-events-plugin.com//7.2.3.1//EN
BEGIN:VEVENT
UID:202@ventureclub.cz
DTSTART;TZID=Europe/Prague:20220719T160000
DTEND;TZID=Europe/Prague:20220719T220000
DTSTAMP:20221007T074325Z
URL:https://ventureclub.cz/udalost/letni-prazdninova-akce-vysehrad-jak-jej
 -neznate/
SUMMARY:Letní prázdninová akce - Vyšehrad jak jej neznáte
DESCRIPTION:Přátelé\, 19.7. se sejdeme na Vyšehradě\, u Baziliky sv. P
 etra a Pavla - zahájíme prohlídkou a pokračujeme na přilehkém hřbit
 ově. Poté sejdeme procházkou k Vltavě (s pohledem na Pražský hrad ja
 ko na obrázku zde) na posezení do restaurace Podolská kotva\, kde nás 
 bude čekat připravené občerstvení a můžeme se zdržet\, jak bude li
 bo.\n\nKaždou celou hodinu Vyšehrad rozezní zvonohra kapitulního koste
 la\, jenž prošel za 950 let od svého založení mnoha stavebními úpra
 vami. V r. 1903 byla dokončena poslední přestavba\, která vtiskla kost
 elu dnešní neogotickou podobu. Interiér je bohatě zdoben ornamentáln
 í a figurální secesní nástěnnou malbou. V klenotnici chrámu je zpř
 ístupněna expozice šperků a vzácných tkanin Vyšehradské kapituly.\
 n\nProhlídka je zajištěna ve spolupráci s Pražskou informační služ
 bou a těšíme se na zajímavý výklad a hlavně\, příjemné setkání
  s Vámi všemi. Určitě  přijde řeč i na novinky v projektech \;-)\n
 \nJako obvykle\, vstup po registraci předem. Pro členy klubu 1 lístek n
 a osobu v ceně členství pro "Základní" členství\, 2 pro "Řádné" 
 členství. Pro nečleny vstupné 500 Kč\, občerstvení v ceně vstupné
 ho.\n\nHezké léto a na viděnou zde\, nebo v pak v srpnu\, 1ž. v úter
 ý. Standardní program pak pojede zase od září.\n\nZdraví\n\nPetr Še
 divý\n\n&nbsp\;
ATTACH;FMTTYPE=image/jpeg:https://ventureclub.cz/wp-content/uploads/2022/0
 8/vysehrad_sml-scaled-e1658859308960.jpg
CATEGORIES:Společenská akce
LOCATION:Bazilika sv. Petra a Pavla na Vyšehradě\, Štulcova\, Praha 2\, 
 Česká republika
GEO:50.064462;14.417327
X-APPLE-STRUCTURED-LOCATION;VALUE=URI;X-ADDRESS=Štulcova\, Praha 2\, Česk
 á republika;X-APPLE-RADIUS=100;X-TITLE=Bazilika sv. Petra a Pavla na Vyš
 ehradě:geo:50.064462,14.417327
END:VEVENT
BEGIN:VTIMEZONE
TZID:Europe/Prague
X-LIC-LOCATION:Europe/Prague
BEGIN:DAYLIGHT
DTSTART:20220327T030000
TZOFFSETFROM:+0100
TZOFFSETTO:+0200
TZNAME:CEST
END:DAYLIGHT
END:VTIMEZONE
END:VCALENDAR