BEGIN:VCALENDAR
VERSION:2.0
PRODID:-//wp-events-plugin.com//7.2.3.1//EN
BEGIN:VEVENT
UID:510@ventureclub.cz
DTSTART;TZID=Europe/Prague:20240716T165000
DTEND;TZID=Europe/Prague:20240716T215000
DTSTAMP:20240715T150036Z
URL:https://ventureclub.cz/udalost/letni-prazdninova-akce/
SUMMARY:Letní prázdninová akce 1 Praha Neznámá Staré Město
DESCRIPTION:Přátelé\, první prázdninová akce se blíží\, dejte si j
 i do kalendáře.  Půjdeme na procházku po Starém Městě\, s průvodc
 i z Praha Neznámá. Nebojte se\, hodinku\, hodinku a půl a poté zajdeme
  na něco dobrého a popovídat. Kdo jste byl minulé roky\, tušíte\,.. 
 kdo ne\, stavte se\, zažijete. Přihlášení níže. \n\nSraz je v 17:00
  u OD Kotva (nebo krátce před tím)\, podloubí  na náměstí Republik
 y.\n\nPo procházce budeme v kavárně u UMPRUM\, café Turquise\, plánu
 jeme od 18:30 do 22:00 hodin. Těšte se na posezení venku (bude-li poča
 sí) a občerstvení formou bufetu včetně napojů (welcome drink\, 1x pi
 vo nebo 1x víno)\, vše v ceně 1 tisíc Kč/osobu.\n\n\n\nMalá ochutná
 vka povídání průvodce je zde:\n\nNa vycházkách Prahy Neznámé se ob
 vykle soustřeďujeme spíše na neobvyklé trasy\, či na čtvrtě\, kter
 é bývají upozaděné a ne tak prozkoumané. Nyní si však dovolím nab
 ídnout tip na vycházku do míst Starého Města\, kde se nacházejí sam
 é honosné budovy a instituce. Přestože tudy většina Pražanů šla j
 iž mnohokrát\, někdy v každodenním shonu své okolí již ani nevním
 áme…Přicházíme tak o požitek nejen ze skvělé architektury\, ale t
 aké z genia loci a atmosféry mnoha míst. Dnes tedy bude řeč o budová
 ch reprezentativních.\n\nV mnoha z nich se v minulosti psala historie\, a
 ť už politická\, umělecká\, či vědecká. Naše trasa zahrnuje také
  objekty několika vysokých škol\, které vychovávají absolventy rozli
 čných profesí a připravují je na jejich budoucí uplatnění. To je j
 istě nelehký úkol a ač se to nezdá\, možná tomu může být nápomo
 cna i kvalitní architektura. Tím se již dostáváme k začátku naší 
 vycházkové cesty.\n\nDnešní svět by jistě nemohl fungovat bez právn
 ických profesí. V době\, kdy se rozvádí snad polovina manželství se
  zdá\, že muži a ženy paragrafů budou mít i do budoucna o práci pos
 taráno. Býti právníkem je odedávna povolání velice ceněné a nále
 žitě vážené. Této skutečnosti odpovídá i vzhled budovy pražské 
 právnické fakulty\, kterou nalezneme jen kousek od Náměstí Currierov
 ých.\n\nKdyž před ní staneme\, na první pohled nás upoutá její maj
 estátní trojúhelníkový štít a racionálně moderní fasáda budovy.
  Toto architektonické sousloví jsem použila úmyslně\, neboť jen u m
 álo budov je tak přiléhavé jako právě zde. Architektem\, který budo
 vu navrhl\, je totiž Jan Kotěra\, muž který jako jeden z prvních prop
 agoval v architektuře tento střídmý styl . Právnická fakulta je jede
 n z jeho nejdůležitějších projektů\, které po sobě v Praze zanecha
 l. Bohužel však s touto stavbou měl i mnoho starostí\, neboť měl spo
 ustu problémů projekt prosadit a dokonce jej musel několikrát přeprac
 ovat.\n\nPozměněný návrh byl nakonec opravdu přijat a tak se Janu Kot
 ěrovi dostalo oné pocty fakultu nakonec postavit. Bohužel byl sám již
  v pokročilém věku a v průběhu stavby zemřel. Dokončit budovu tedy 
 musel jeho žák Ladislav Machoň. Nakonec byla hotova až v roce 1926.\n\
 n&nbsp\;\n\n           \n\n... ale nebudeme prozrazovat vše\, snad je
 n: uvidíme i interiér právnické fakulty\, další školní budovu - Č
 VUT. Možná i konzervatoř\, starý židovský hřbitov\, Uměleckoprůmy
 slové muzeum s jeho studovnou\, filosofickou fakultu a Rudolfinum. Po pro
 cházce navážeme občerstvením\,\n\n&nbsp\;\n\nSraz: 17:00 u OD Kotva\,
  podloubí  nám Republiky. Konec procházky: ca 18:30  Nová radnice n
 ám. Fr. Kafky. Poté přejdeme do café Turquise\,\n\nHezké léto a na 
 viděnou zde\, nebo v pak v srpnu\, 13.8.2024\, opět v úterý na druhé 
 letní akci. Standardní program pak pojede zase od září.\n\nZdraví a 
 těší se na viděnou\n\nPetr Šedivý\n\nP.S.\n\nÚčast po přihlášen
 í níže. Ceny vstupného jsou různé pro NEčleny (platí si větší 
 část občerstvení)\, Základní členy (platí polovinu ceny občerstve
 ní) a Řádné členy (platí malý příspěvek na občerstvení). Klub 
 platí navíc všem účastníkům náklady průvodce. Pokud nás bude nad
  30 (40 maximálně)\, budeme mít sluchátka pro možnost lepšího posle
 chu výkladu. Půjčovné sluchátek v tom případě v ceně vstupného. 
 Účast jen na procházce "zdarma" bez platby dalšího programu není mo
 žná.\n\n&nbsp\;\n\n&nbsp\;
ATTACH;FMTTYPE=image/jpeg:https://ventureclub.cz/wp-content/uploads/2024/0
 5/webprahanezn.png
CATEGORIES:Společenská akce
LOCATION:OD kotva\, podloubí nám. Republiky\, Nám. Republiky 8\, Praha 1
 \, Česko\, 110 00\, 05461201\, Česká republika
GEO:50.0891;14.427707
X-APPLE-STRUCTURED-LOCATION;VALUE=URI;X-ADDRESS=Nám. Republiky 8\, Praha 1
 \, Česko\, 110 00\, 05461201\, Česká republika;X-APPLE-RADIUS=100;X-TIT
 LE=OD kotva\, podloubí nám. Republiky:geo:50.0891,14.427707
END:VEVENT
BEGIN:VTIMEZONE
TZID:Europe/Prague
X-LIC-LOCATION:Europe/Prague
BEGIN:DAYLIGHT
DTSTART:20240331T030000
TZOFFSETFROM:+0100
TZOFFSETTO:+0200
TZNAME:CEST
END:DAYLIGHT
END:VTIMEZONE
END:VCALENDAR