BEGIN:VCALENDAR
VERSION:2.0
PRODID:-//wp-events-plugin.com//7.2.3.1//EN
BEGIN:VEVENT
UID:373@ventureclub.cz
DTSTART;TZID=Europe/Prague:20221129T180000
DTEND;TZID=Europe/Prague:20221129T200000
DTSTAMP:20221128T131136Z
URL:https://ventureclub.cz/udalost/miroslav-karas-novinar/
SUMMARY:Miroslav Karas\, novinář a reportér
DESCRIPTION:Milým hostem v klubu bude novinář a reportér Miroslav Karas
 \, t.č\, ředitel televizního studia Ostrava. Mimo jiné dříve působi
 l jako zahraniční zpravodaj ČT Polsku (1998-2012 a 2016-2017) a v Rusku
  (2012-2016 a 2018-2020). I vzhledem k současné situaci ve světě a na 
 Ukrajině jsme velmi rádi\, že přijal naše pozvání na klubový veče
 r.\n\nTémat bude více\, určitě dojde i na jakékoliv otázky.\n\nPřij
 ďte si poslechnout a vyzpovídat zajímavého hosta.\n\nNa akci se regist
 rujte níže. Koná se v prostorech 2N v Park Atriu v Modřanech. Akce je 
 dostupná i pro nečleny klubu\, po úhradě vstupného.\n\nTěšíme se n
 a zajímavý večer.
ATTACH;FMTTYPE=image/jpeg:https://ventureclub.cz/wp-content/uploads/2022/1
 0/MKaras_VC.png
CATEGORIES:Společenská akce
LOCATION:Park Atrium u spol. 2N\, Pod Vinicí 2028/20\, Praha 12\, Česká 
 republika
GEO:50.0158484;14.404343599999947
X-APPLE-STRUCTURED-LOCATION;VALUE=URI;X-ADDRESS=Pod Vinicí 2028/20\, Praha
  12\, Česká republika;X-APPLE-RADIUS=100;X-TITLE=Park Atrium u spol. 2N:
 geo:50.0158484,14.404343599999947
END:VEVENT
BEGIN:VTIMEZONE
TZID:Europe/Prague
X-LIC-LOCATION:Europe/Prague
BEGIN:STANDARD
DTSTART:20221030T020000
TZOFFSETFROM:+0200
TZOFFSETTO:+0100
TZNAME:CET
END:STANDARD
END:VTIMEZONE
END:VCALENDAR