BEGIN:VCALENDAR
VERSION:2.0
PRODID:-//wp-events-plugin.com//7.2.3.1//EN
BEGIN:VEVENT
UID:685@ventureclub.cz
DTSTART;TZID=Europe/Prague:20260309T190000
DTEND;TZID=Europe/Prague:20260309T193000
DTSTAMP:20260309T123551Z
URL:https://ventureclub.cz/udalost/novinky-sanezoo-a-vse-na-co-jste-se-cht
 eli-optat/
SUMMARY:Novinky SANEZOO a vše\, na co jste se chtěli optat
DESCRIPTION:Pro lepší informovanost akcionářům projektu SANEZOO jsme z
 organizovali meeting\, na pondělí 9.3. navečer\, v 19 hodin. Po přihl
 ášení níže obdržíte před akcí email na vzdálený přístup na me
 eting a můžete se připojit. Pozvánky bude posílat přímo Sanezoo. Sh
 rnutí určitě odpoví na všechny Vaše otázky.\n\nUpozornění: Pokud 
 máte zájem sledovat informační servis k projektům pravidelně\, uděl
 ejte si u nás členství. Registrace do klubu je zde.  Stejně tak\, př
 ístup do chráněné zóny webu je jen pro registrované členy.\n\nAkce 
 je pouze on-line a pro stávající akcionáře projektu - členy Venture 
 Clubu - zdarma. Další informace na vyžádání\, nebo v chráněné zó
 ně projektů.\n\nPetr Šedivý
ATTACH;FMTTYPE=image/jpeg:https://ventureclub.cz/wp-content/uploads/2023/0
 5/SNZonline.png
CATEGORIES:Prezentace
END:VEVENT
BEGIN:VTIMEZONE
TZID:Europe/Prague
X-LIC-LOCATION:Europe/Prague
BEGIN:STANDARD
DTSTART:20251026T020000
TZOFFSETFROM:+0200
TZOFFSETTO:+0100
TZNAME:CET
END:STANDARD
END:VTIMEZONE
END:VCALENDAR