BEGIN:VCALENDAR
VERSION:2.0
PRODID:-//wp-events-plugin.com//7.2.3.1//EN
BEGIN:VEVENT
UID:515@ventureclub.cz
DTSTART;TZID=Europe/Prague:20240711T180000
DTEND;TZID=Europe/Prague:20240711T193000
DTSTAMP:20240711T082200Z
URL:https://ventureclub.cz/udalost/novinky-v-sanezoo-oci-na-neviditelnost-
 aktualni-zmeny-ve-spolecnosti-a-plany-na-dalsi-obdobi/
SUMMARY:Novinky v SANEZOO: Oči na neviditelnost\, aktuální změny ve spo
 lečnosti a plány na další období
DESCRIPTION:\n 	Připravili jsme pro investory společnosti SANEZOO SE več
 er s novým vedením firmy panem Lubošem Nebesařem\, který je od červe
 nce v pozici CEO a předsedou správní rady SANEZOO SE. Jak víte\, o spo
 lečnosti psal nedávno FORBES (Oči na neviditelnost\, 6.6.2024...)\, nov
 ě je expozice v Americe a současně\, firma posiluje obchodní oddělen
 í. K změně jsme vydali tiskovou zprávu - najdete ji zde. \n\nRádi by
 chom Vás informovali o novinkách s změnami spojenými a blíže je vysv
 ětlili. Chceme Vás informovat o aktuálním děním v obchodu\, produkte
 ch a plánech na nejbližší období. Současně společnost posiluje fin
 anční zdroje pro další rozvoj nejen Ameriky: na základě rozhodnutí 
 valné hromady z června 2024 firma povolila úpis dalších až 25 tisíc
  akcií (nabídka platí pro stávající a kvalifikované investory souč
 asně) a nabírá prostředky i od drobnějších investorů formou dluhop
 isu\, kde nejmenší investice je od 50 tisíc Kč při 14.1% p.a. a čtvr
 tletní výplatě úroku - dočasně při velmi zajímavých podmínkách.
  (Najdete je zde\, mezi projekty klubu\, kde jde dluhopis objednat). Oboje
  je ve světle dalších očekávaných událostí\, věříme\, dobrá p
 říležitost k investici :-)\n\nProtože vedení firmy se účastní i Pe
 tr Šedivý\, coby člen správní rady\, a Petr Štěpánek\, coby CFO\, 
 máme tak informace "z první ruky".\n\n&nbsp\;\n\nweb SANEZOO SE      
   web dluhopisů Robotizace 2         Projekt úpisu na webu VC\n\nP
 řihlášení níže. Nabídka k účasti platí pro stávající členy k
 lubu a investory SANEZOO - účast je zdarma. Pokud nemáte členství\, p
 rosíme\, udělejte si ho. Pro členy jsou k dispozici další materiály 
 v platformě klubu a samozřejmě i mobilní aplikace klubu.\n\nTěšíme 
 se na viděnou on-line a kdykoliv při vhodné příležitosti i osobně.\
 n\nZdraví\n\nPetr Šedivý a Petr Štěpánek za VC a Luboš Nebesař\, C
 EO SANEZOO SE\n\n&nbsp\;
ATTACH;FMTTYPE=image/jpeg:https://ventureclub.cz/wp-content/uploads/2024/0
 7/Snimek-obrazovky-2024-07-03-173142.png
CATEGORIES:Prezentace
END:VEVENT
BEGIN:VTIMEZONE
TZID:Europe/Prague
X-LIC-LOCATION:Europe/Prague
BEGIN:DAYLIGHT
DTSTART:20240331T030000
TZOFFSETFROM:+0100
TZOFFSETTO:+0200
TZNAME:CEST
END:DAYLIGHT
END:VTIMEZONE
END:VCALENDAR