BEGIN:VCALENDAR
VERSION:2.0
PRODID:-//wp-events-plugin.com//7.2.3.1//EN
BEGIN:VEVENT
UID:389@ventureclub.cz
DTSTART;TZID=Europe/Prague:20230119T180000
DTEND;TZID=Europe/Prague:20230119T183000
DTSTAMP:20230116T122603Z
URL:https://ventureclub.cz/udalost/novinky-ve-vyrobe-baterii-12/
SUMMARY:Novinky ve výrobě baterií 12
DESCRIPTION:Pro lepší informovanost investorů projektu výroby baterií 
 jsme zorganizovali meeting\, na čtvrtek 19.1. podvečer. Pokud jste inves
 tory projektu a máte-li u VC registraci\, po přihlášení níže obdrž
 íte před akcí email na vzdálený přístup na meeting přes Microsoft 
 Teams a můžete se připojit.  18.1.23 se koná/byl 5. board investorů 
 - návštěva v továrně - první po Novém roce\, povíme si\, co novéh
 o. Máte-li otázky - připravte si je.\n\nUpozornění: akce je určena v
  těchto dalších kolech - akci opakujeme s aktualizací informací - jen
  členům Venture Club z.s. Pokud máte zájem sledovat informační servi
 s k projektu pravidelně\, udělejte si u nás členství. Registrace do k
 lubu je zde. Bez registrace ve Venture Club z.s. nebude účast na této a
 kci možná. Stejně tak\, přístup do chráněné zóny webu je jen pro 
 registrované členy.\n\nAkce je pouze on-line a pro stávající investor
 y - členy Venture Clubu - zdarma. Další informace na vyžádání\, neb
 o v chráněné zóně projektů.\nPetr Šedivý\nJednatel Venture Club In
 vest s.r.o.\, předseda výboru spolku Venture Club z.s.
ATTACH;FMTTYPE=image/jpeg:https://ventureclub.cz/wp-content/uploads/2023/0
 1/baterka_vanoce22.jpg
CATEGORIES:Prezentace
LOCATION:Microsoft Teams Meeting\, online\, Praha 1\, Česká republika
GEO:50.0887101;14.4155981
X-APPLE-STRUCTURED-LOCATION;VALUE=URI;X-ADDRESS=online\, Praha 1\, Česká 
 republika;X-APPLE-RADIUS=100;X-TITLE=Microsoft Teams Meeting:geo:50.088710
 1,14.4155981
END:VEVENT
BEGIN:VTIMEZONE
TZID:Europe/Prague
X-LIC-LOCATION:Europe/Prague
BEGIN:STANDARD
DTSTART:20221030T020000
TZOFFSETFROM:+0200
TZOFFSETTO:+0100
TZNAME:CET
END:STANDARD
END:VTIMEZONE
END:VCALENDAR