BEGIN:VCALENDAR
VERSION:2.0
PRODID:-//wp-events-plugin.com//7.2.3.1//EN
BEGIN:VEVENT
UID:409@ventureclub.cz
DTSTART;TZID=Europe/Prague:20230403T190000
DTEND;TZID=Europe/Prague:20230403T193000
DTSTAMP:20230331T152218Z
URL:https://ventureclub.cz/udalost/novinky-ve-vyrobe-baterii-14/
SUMMARY:Novinky ve výrobě baterií 14
DESCRIPTION:Pro lepší informovanost investorů projektu výroby baterií 
 jsme zorganizovali meeting\, na pondělí 3.4. navečer\, v 19 hodin. Poku
 d jste investory projektu a máte-li u VC registraci\, po přihlášení n
 íže obdržíte před akcí email na vzdálený přístup na meeting pře
 s Microsoft Teams a můžete se připojit.  30.3.23 se konal opět board 
 investorů - návštěva v továrně - povíme si\, co nového. Máte-li o
 tázky - připravte si je.\n\nUpozornění: akce je určena v těchto dal
 ších kolech - akci opakujeme s aktualizací informací - jen členům Ve
 nture Club z.s. Pokud máte zájem sledovat informační servis k projektu
  pravidelně\, udělejte si u nás členství. Registrace do klubu je zde.
  Bez registrace ve Venture Club z.s. nebude účast na této akci možná.
  Stejně tak\, přístup do chráněné zóny webu je jen pro registrovan
 é členy.\n\nAkce je pouze on-line a pro stávající investory - členy 
 Venture Clubu - zdarma. Další informace na vyžádání\, nebo v chrán
 ěné zóně projektů.\nPetr Šedivý\nJednatel Venture Club Invest s.r.o
 .\, předseda výboru spolku Venture Club z.s.
ATTACH;FMTTYPE=image/jpeg:https://ventureclub.cz/wp-content/uploads/2023/0
 3/MES2903-14-e1680276050859.jpg
CATEGORIES:Prezentace
LOCATION:Microsoft Teams Meeting\, online\, Praha 1\, Česká republika
GEO:50.0887101;14.4155981
X-APPLE-STRUCTURED-LOCATION;VALUE=URI;X-ADDRESS=online\, Praha 1\, Česká 
 republika;X-APPLE-RADIUS=100;X-TITLE=Microsoft Teams Meeting:geo:50.088710
 1,14.4155981
END:VEVENT
BEGIN:VTIMEZONE
TZID:Europe/Prague
X-LIC-LOCATION:Europe/Prague
BEGIN:DAYLIGHT
DTSTART:20230326T030000
TZOFFSETFROM:+0100
TZOFFSETTO:+0200
TZNAME:CEST
END:DAYLIGHT
END:VTIMEZONE
END:VCALENDAR