BEGIN:VCALENDAR
VERSION:2.0
PRODID:-//wp-events-plugin.com//7.2.3.1//EN
BEGIN:VEVENT
UID:474@ventureclub.cz
DTSTART;TZID=Europe/Prague:20240115T190000
DTEND;TZID=Europe/Prague:20240115T193000
DTSTAMP:20240101T205429Z
URL:https://ventureclub.cz/udalost/novinky-ve-vyrobe-baterii-20/
SUMMARY:Novinky ve výrobě baterií 20
DESCRIPTION:Pro lepší informovanost investorů projektu výroby baterií 
 jsme zorganizovali meeting\, na pondělí 15.1.2024 podvečer\, v 19 hodin
  - navazuje na návštěvu v Horní Suché 11.1.2024. Pokud jste investory
  projektu a máte-li u VC registraci\, po přihlášení níže obdržíte
  před akcí email na vzdálený přístup na meeting přes Microsoft Team
 s a můžete se připojit.  11.1.24 se koná opět board investorů -již
  čtrnáctý v pořadí a první letošní -  povíme si\, co nového.\n\
 nUpozornění: akce je určena v těchto dalších kolech - akci opakujeme
  s aktualizací informací - jen členům Venture Club z.s. Pokud máte z
 ájem sledovat informační servis k projektu pravidelně\, udělejte si u
  nás členství. Registrace do klubu je zde. Bez registrace ve Venture Cl
 ub z.s. nebude účast na této akci možná. Stejně tak\, přístup do c
 hráněné zóny webu je jen pro registrované členy.\n\nAkce je pouze on
 -line a pro stávající investory - členy Venture Clubu - zdarma. Dalš
 í informace na vyžádání\, nebo v chráněné zóně projektů.\nPetr 
 Šedivý\nJednatel Venture Club Invest s.r.o.\, předseda výboru spolku V
 enture Club z.s.
ATTACH;FMTTYPE=image/jpeg:https://ventureclub.cz/wp-content/uploads/2024/0
 1/150kW_112023.jpg
CATEGORIES:Prezentace
LOCATION:Microsoft Teams Meeting\, online\, Praha 1\, Česká republika
GEO:50.0887101;14.4155981
X-APPLE-STRUCTURED-LOCATION;VALUE=URI;X-ADDRESS=online\, Praha 1\, Česká 
 republika;X-APPLE-RADIUS=100;X-TITLE=Microsoft Teams Meeting:geo:50.088710
 1,14.4155981
END:VEVENT
BEGIN:VTIMEZONE
TZID:Europe/Prague
X-LIC-LOCATION:Europe/Prague
BEGIN:STANDARD
DTSTART:20231029T020000
TZOFFSETFROM:+0200
TZOFFSETTO:+0100
TZNAME:CET
END:STANDARD
END:VTIMEZONE
END:VCALENDAR