BEGIN:VCALENDAR
VERSION:2.0
PRODID:-//wp-events-plugin.com//7.2.3.1//EN
BEGIN:VEVENT
UID:492@ventureclub.cz
DTSTART;TZID=Europe/Prague:20240311T190000
DTEND;TZID=Europe/Prague:20240311T193000
DTSTAMP:20250108T141130Z
URL:https://ventureclub.cz/udalost/novinky-ve-vyrobe-baterii-21/
SUMMARY:Novinky ve výrobě baterií 21
DESCRIPTION:Pro lepší informovanost investorů projektu výroby baterií 
 jsme zorganizovali meeting\, na pondělí 11.3.2024 podvečer\, v 19 hodin
  - navazuje na návštěvu v Horní Suché 7.3.2024. Pokud jste investory 
 projektu a máte-li u VC registraci\, po přihlášení níže obdržíte 
 před akcí email na vzdálený přístup na meeting přes Microsoft Teams
  a můžete se připojit.  7.3.24 se koná opět board investorů -již p
 atnáctý v pořadí a druhý letošní -  povíme si\, co nového.\n\nUp
 ozornění: akce je určena v těchto dalších kolech - akci opakujeme s 
 aktualizací informací - jen členům Venture Club z.s. Pokud máte záje
 m sledovat informační servis k projektu pravidelně\, udělejte si u ná
 s členství. Registrace do klubu je zde. Bez registrace ve Venture Club z
 .s. nebude účast na této akci možná. Stejně tak\, přístup do chrá
 něné zóny webu je jen pro registrované členy.\n\nAkce je pouze on-lin
 e a pro stávající investory - členy Venture Clubu - zdarma. Další in
 formace na vyžádání\, nebo v chráněné zóně projektů.\nPetr Šedi
 vý\nJednatel Venture Club Invest s.r.o.\, osoba rizikového kapitálu\, p
 ředseda výboru spolku Venture Club z.s.
ATTACH;FMTTYPE=image/jpeg:https://ventureclub.cz/wp-content/uploads/2024/0
 2/novinky21_2.jpg
CATEGORIES:Prezentace
LOCATION:Microsoft Teams Meeting\, online\, Praha 1\, Česká republika
GEO:50.0887101;14.4155981
X-APPLE-STRUCTURED-LOCATION;VALUE=URI;X-ADDRESS=online\, Praha 1\, Česká 
 republika;X-APPLE-RADIUS=100;X-TITLE=Microsoft Teams Meeting:geo:50.088710
 1,14.4155981
END:VEVENT
BEGIN:VTIMEZONE
TZID:Europe/Prague
X-LIC-LOCATION:Europe/Prague
BEGIN:STANDARD
DTSTART:20231029T020000
TZOFFSETFROM:+0200
TZOFFSETTO:+0100
TZNAME:CET
END:STANDARD
END:VTIMEZONE
END:VCALENDAR