BEGIN:VCALENDAR
VERSION:2.0
PRODID:-//wp-events-plugin.com//7.2.3.1//EN
BEGIN:VEVENT
UID:517@ventureclub.cz
DTSTART;TZID=Europe/Prague:20240729T190000
DTEND;TZID=Europe/Prague:20240729T193000
DTSTAMP:20240707T203242Z
URL:https://ventureclub.cz/udalost/novinky-ve-vyrobe-baterii-23/
SUMMARY:Novinky ve výrobě baterií 23
DESCRIPTION:Pro lepší informovanost investorů projektu výroby baterií 
 jsme zorganizovali meeting\, na pondělí 29.7.2024 podvečer\, v 19 hodin
  - navazuje na návštěvu v Horní Suché plánovanou na týden před tí
 m. Pokud jste investory projektu a máte-li u VC registraci\, po přihlá
 šení níže obdržíte před akcí email na vzdálený přístup na meet
 ing přes Microsoft Teams a můžete se připojit.  Déle jsme si o bater
 kách nepovídali (pokud nesledujete tedy platformu\, tam něco píšeme p
 ravidelně) -  povíme si\, co nového.\n\nUpozornění: akce je určena 
 v těchto dalších kolech - akci opakujeme s aktualizací informací - je
 n členům Venture Club z.s. Pokud máte zájem sledovat informační serv
 is k projektu pravidelně\, udělejte si u nás členství. Registrace do 
 klubu je zde. Bez registrace ve Venture Club z.s. nebude účast na této 
 akci možná. Stejně tak\, přístup do chráněné zóny webu je jen pro
  registrované členy.\n\nAkce je pouze on-line a pro stávající investo
 ry - členy Venture Clubu - zdarma. Další informace na vyžádání\, ne
 bo v chráněné zóně projektů.\nPetr Šedivý\nJednatel Venture Club I
 nvest s.r.o.\, předseda výboru spolku Venture Club z.s.
ATTACH;FMTTYPE=image/jpeg:https://ventureclub.cz/wp-content/uploads/2024/0
 7/MES1308.jpg
CATEGORIES:Prezentace
LOCATION:Microsoft Teams Meeting\, online\, Praha 1\, Česká republika
GEO:50.0887101;14.4155981
X-APPLE-STRUCTURED-LOCATION;VALUE=URI;X-ADDRESS=online\, Praha 1\, Česká 
 republika;X-APPLE-RADIUS=100;X-TITLE=Microsoft Teams Meeting:geo:50.088710
 1,14.4155981
END:VEVENT
BEGIN:VTIMEZONE
TZID:Europe/Prague
X-LIC-LOCATION:Europe/Prague
BEGIN:DAYLIGHT
DTSTART:20240331T030000
TZOFFSETFROM:+0100
TZOFFSETTO:+0200
TZNAME:CEST
END:DAYLIGHT
END:VTIMEZONE
END:VCALENDAR