BEGIN:VCALENDAR
VERSION:2.0
PRODID:-//wp-events-plugin.com//7.2.3.1//EN
BEGIN:VEVENT
UID:518@ventureclub.cz
DTSTART;TZID=Europe/Prague:20240902T190000
DTEND;TZID=Europe/Prague:20240902T193000
DTSTAMP:20250108T143434Z
URL:https://ventureclub.cz/udalost/novinky-ve-vyrobe-baterii-24/
SUMMARY:Novinky ve výrobě baterií 24
DESCRIPTION:Pro lepší informovanost investorů projektu výroby baterií 
 jsme zorganizovali meeting\, na pondělí 2.9.2024 podvečer\, v 19 hodin 
 - navazuje na návštěvu v Horní Suché 29.8. před tím. Pokud jste inv
 estory projektu a máte-li u VC registraci\, po přihlášení níže obdr
 žíte před akcí email na vzdálený přístup na meeting přes Microsof
 t Teams a můžete se připojit.  Déle jsme si o baterkách nepovídali 
 (pokud nesledujete tedy platformu\, tam něco píšeme pravidelně) -  po
 víme si\, co nového.\n\nUpozornění: akce je určena v těchto dalšíc
 h kolech - akci opakujeme s aktualizací informací - jen členům Venture
  Club z.s. Pokud máte zájem sledovat informační servis k projektu prav
 idelně\, udělejte si u nás členství. Registrace do klubu je zde. Bez 
 registrace ve Venture Club z.s. nebude účast na této akci možná. Stej
 ně tak\, přístup do chráněné zóny webu je jen pro registrované čl
 eny.\n\nAkce je pouze on-line a pro stávající investory - členy Ventur
 e Clubu - zdarma. Další informace na vyžádání\, nebo v chráněné z
 óně projektů.\nPetr Šedivý\nJednatel Venture Club Invest s.r.o.\, oso
 ba rizikového kapitálu\, předseda výboru spolku Venture Club z.s.
ATTACH;FMTTYPE=image/jpeg:https://ventureclub.cz/wp-content/uploads/2024/0
 8/MES_29082024.jpg
CATEGORIES:Prezentace
LOCATION:Microsoft Teams Meeting\, online\, Praha 1\, Česká republika
GEO:50.0887101;14.4155981
X-APPLE-STRUCTURED-LOCATION;VALUE=URI;X-ADDRESS=online\, Praha 1\, Česká 
 republika;X-APPLE-RADIUS=100;X-TITLE=Microsoft Teams Meeting:geo:50.088710
 1,14.4155981
END:VEVENT
BEGIN:VTIMEZONE
TZID:Europe/Prague
X-LIC-LOCATION:Europe/Prague
BEGIN:DAYLIGHT
DTSTART:20240331T030000
TZOFFSETFROM:+0100
TZOFFSETTO:+0200
TZNAME:CEST
END:DAYLIGHT
END:VTIMEZONE
END:VCALENDAR