BEGIN:VCALENDAR
VERSION:2.0
PRODID:-//wp-events-plugin.com//7.2.3.1//EN
BEGIN:VEVENT
UID:560@ventureclub.cz
DTSTART;TZID=Europe/Prague:20241216T190000
DTEND;TZID=Europe/Prague:20241216T193000
DTSTAMP:20250108T142742Z
URL:https://ventureclub.cz/udalost/novinky-ve-vyrobe-baterii-25/
SUMMARY:Novinky ve výrobě baterií 25
DESCRIPTION:Pro lepší informovanost investorů projektu výroby baterií 
 jsme zorganizovali meeting\, na pondělí 16.12.2024 podvečer\, v 19 hodi
 n - přeci jen\, je dobré shrnout co je nového za poslední tři měsíc
 e.\n\nPokud jste investory projektu a máte-li u VC registraci\, po přihl
 ášení níže obdržíte před akcí email na vzdálený přístup na me
 eting přes Microsoft Teams a můžete se připojit.  Déle jsme si o bat
 erkách nepovídali (pokud nesledujete tedy platformu\, tam něco píšeme
  pravidelně) -  povíme si\, co nového.\n\nUpozornění: akce je určen
 a v těchto dalších kolech - akci opakujeme s aktualizací informací - 
 jen členům Venture Club z.s. Pokud máte zájem sledovat informační se
 rvis k projektu pravidelně\, udělejte si u nás členství. Registrace d
 o klubu je zde. Bez registrace ve Venture Club z.s. nebude účast na tét
 o akci možná. Stejně tak\, přístup do chráněné zóny webu je jen p
 ro registrované členy.\n\nAkce je pouze on-line a pro stávající inves
 tory - členy Venture Clubu - zdarma. Další informace na vyžádání\, 
 nebo v chráněné zóně projektů.\nPetr Šedivý\nJednatel Venture Club
  Invest s.r.o.\, osoba rizikového kapitálu\, předseda výboru spolku Ve
 nture Club z.s.
ATTACH;FMTTYPE=image/jpeg:https://ventureclub.cz/wp-content/uploads/2024/1
 2/NASAtechfinalist.png
CATEGORIES:Prezentace
LOCATION:Microsoft Teams Meeting\, online\, Praha 1\, Česká republika
GEO:50.0887101;14.4155981
X-APPLE-STRUCTURED-LOCATION;VALUE=URI;X-ADDRESS=online\, Praha 1\, Česká 
 republika;X-APPLE-RADIUS=100;X-TITLE=Microsoft Teams Meeting:geo:50.088710
 1,14.4155981
END:VEVENT
BEGIN:VTIMEZONE
TZID:Europe/Prague
X-LIC-LOCATION:Europe/Prague
BEGIN:STANDARD
DTSTART:20241027T020000
TZOFFSETFROM:+0200
TZOFFSETTO:+0100
TZNAME:CET
END:STANDARD
END:VTIMEZONE
END:VCALENDAR