BEGIN:VCALENDAR
VERSION:2.0
PRODID:-//wp-events-plugin.com//7.2.3.1//EN
BEGIN:VEVENT
UID:599@ventureclub.cz
DTSTART;TZID=Europe/Prague:20250526T190000
DTEND;TZID=Europe/Prague:20250526T193000
DTSTAMP:20250504T101354Z
URL:https://ventureclub.cz/udalost/novinky-ve-vyrobe-baterii-28/
SUMMARY:Novinky ve výrobě baterií 28
DESCRIPTION:Pro lepší informovanost investorů projektu výroby baterií 
 jsme zorganizovali meeting\, na pondělí 26.5.2025 podvečer\, v 19 hodin
 . Poinformujeme o posledním vývoji po návštěvě v Horní Suché 22.5.
  a stavu jednání\, které za Venture Club v těchto dnech vedeme. Stavte
  se.\n\nPokud jste investory projektu a máte-li u VC registraci\, po při
 hlášení níže obdržíte před akcí email na vzdálený přístup na 
 meeting přes Microsoft Teams a můžete se připojit.  Déle jsme si o b
 aterkách nepovídali (pokud nesledujete tedy platformu\, tam něco píše
 me pravidelně) -  povíme si\, co nového.\n\nUpozornění: akce je urč
 ena v těchto dalších kolech - akci opakujeme s aktualizací informací 
 - jen členům Venture Club z.s. Pokud máte zájem sledovat informační 
 servis k projektu pravidelně\, udělejte si u nás členství. Registrace
  do klubu je zde. Bez registrace ve Venture Club z.s. nebude účast na t
 éto akci možná. Stejně tak\, přístup do chráněné zóny webu je je
 n pro registrované členy.\n\nAkce je pouze on-line a pro stávající in
 vestory - členy Venture Clubu - zdarma. Další informace na vyžádání
 \, nebo v chráněné zóně projektů.\nPetr Šedivý\nJednatel Venture C
 lub Invest s.r.o.\, osoba rizikového kapitálu\, předseda výboru spolku
  Venture Club z.s.
ATTACH;FMTTYPE=image/jpeg:https://ventureclub.cz/wp-content/uploads/2025/0
 5/MES27mala.jpg
CATEGORIES:Prezentace
LOCATION:Microsoft Teams Meeting\, online\, Praha 1\, Česká republika
GEO:50.0887101;14.4155981
X-APPLE-STRUCTURED-LOCATION;VALUE=URI;X-ADDRESS=online\, Praha 1\, Česká 
 republika;X-APPLE-RADIUS=100;X-TITLE=Microsoft Teams Meeting:geo:50.088710
 1,14.4155981
END:VEVENT
BEGIN:VTIMEZONE
TZID:Europe/Prague
X-LIC-LOCATION:Europe/Prague
BEGIN:DAYLIGHT
DTSTART:20250330T030000
TZOFFSETFROM:+0100
TZOFFSETTO:+0200
TZNAME:CEST
END:DAYLIGHT
END:VTIMEZONE
END:VCALENDAR