BEGIN:VCALENDAR
VERSION:2.0
PRODID:-//wp-events-plugin.com//7.2.3.1//EN
BEGIN:VEVENT
UID:620@ventureclub.cz
DTSTART;TZID=Europe/Prague:20251013T190000
DTEND;TZID=Europe/Prague:20251013T193000
DTSTAMP:20251002T121655Z
URL:https://ventureclub.cz/udalost/novinky-ve-vyrobe-baterii-29/
SUMMARY:Novinky ve výrobě baterií 29
DESCRIPTION:Pro lepší informovanost investorů projektu výroby baterií 
 jsme zorganizovali meeting\, na pondělí 13.10.2025 podvečer\, v 19 hodi
 n. Poinformujeme o posledním vývoji a stavu jednání\, které za Ventur
 e Club v těchto dnech vedeme. Stavte se.\n\nPokud jste investory projektu
  a máte-li u VC registraci\, po přihlášení níže obdržíte před ak
 cí email na vzdálený přístup na meeting přes Microsoft Teams a můž
 ete se připojit.  Déle jsme si o baterkách nepovídali (pokud nesleduj
 ete tedy platformu\, tam něco píšeme pravidelně) -  povíme si\, co n
 ového.\n\nUpozornění: akce je určena v těchto dalších kolech - akci
  opakujeme s aktualizací informací - jen členům Venture Club z.s. Poku
 d máte zájem sledovat informační servis k projektu pravidelně\, uděl
 ejte si u nás členství. Registrace do klubu je zde. Bez registrace ve V
 enture Club z.s. nebude účast na této akci možná. Stejně tak\, pří
 stup do chráněné zóny webu je jen pro registrované členy.\n\nAkce je
  pouze on-line a pro stávající investory - členy Venture Clubu - zdarm
 a. Další informace na vyžádání\, nebo v chráněné zóně projektů
 .\nPetr Šedivý\nJednatel Venture Club Invest s.r.o.\, osoba rizikového 
 kapitálu\, předseda výboru spolku Venture Club z.s.
ATTACH;FMTTYPE=image/jpeg:https://ventureclub.cz/wp-content/uploads/2025/1
 0/IMG-20251002-WA0003-scaled.jpg
CATEGORIES:Prezentace
LOCATION:Microsoft Teams Meeting\, online\, Praha 1\, Česká republika
GEO:50.0887101;14.4155981
X-APPLE-STRUCTURED-LOCATION;VALUE=URI;X-ADDRESS=online\, Praha 1\, Česká 
 republika;X-APPLE-RADIUS=100;X-TITLE=Microsoft Teams Meeting:geo:50.088710
 1,14.4155981
END:VEVENT
BEGIN:VTIMEZONE
TZID:Europe/Prague
X-LIC-LOCATION:Europe/Prague
BEGIN:DAYLIGHT
DTSTART:20250330T030000
TZOFFSETFROM:+0100
TZOFFSETTO:+0200
TZNAME:CEST
END:DAYLIGHT
END:VTIMEZONE
END:VCALENDAR