BEGIN:VCALENDAR
VERSION:2.0
PRODID:-//wp-events-plugin.com//7.2.3.1//EN
BEGIN:VEVENT
UID:197@ventureclub.cz
DTSTART;TZID=Europe/Prague:20220822T180000
DTEND;TZID=Europe/Prague:20220822T183000
DTSTAMP:20221007T074325Z
URL:https://ventureclub.cz/udalost/novinky-ve-vyrobe-baterii-4/
SUMMARY:Novinky ve výrobě baterií 4
DESCRIPTION:Pro lepší informovanost investorů projektu výroby baterií 
 jsme zorganizovali meeting\, opět na pondělí večer. Pokud jste investo
 ry projektu a nebo máte-li u VC registraci\, po přihlášení níže obd
 ržíte před akcí email na vzdálený přístup na meeting přes Microso
 ft Teams a můžete se připojit.\n\nUpozornění: akce je určena v dalš
 ích kolech - akci budeme opakovat - jen členům Venture Club z.s. Pokud 
 vás mimo prvního přihlášení zajímá i další pokračování\, či 
 rovnou víte\, že máte zájem sledovat informační servis k projektu pr
 avidelně\, udělejte si u nás členství. Registrace do klubu je zde. Be
 z registrace v Venture Club z.s. nebude účast na akci v dalších kolem 
 již možná. Stejně tak\, přístup do chráněné zóny webu je jen pro
  registrované členy.\n\nAkce je pouze on-line a pro stávající investo
 ry zdarma. Další informace na vyžádání\, nebo v chráněné zóně p
 rojektů.\nPetr Šedivý\nJednatel Venture Club Invest s.r.o.\, předseda 
 výboru spolku Venture Club z.s.
CATEGORIES:Prezentace
LOCATION:Microsoft Teams Meeting\, online\, Praha 1\, Česká republika
GEO:50.0887101;14.4155981
X-APPLE-STRUCTURED-LOCATION;VALUE=URI;X-ADDRESS=online\, Praha 1\, Česká 
 republika;X-APPLE-RADIUS=100;X-TITLE=Microsoft Teams Meeting:geo:50.088710
 1,14.4155981
END:VEVENT
BEGIN:VTIMEZONE
TZID:Europe/Prague
X-LIC-LOCATION:Europe/Prague
BEGIN:DAYLIGHT
DTSTART:20220327T030000
TZOFFSETFROM:+0100
TZOFFSETTO:+0200
TZNAME:CEST
END:DAYLIGHT
END:VTIMEZONE
END:VCALENDAR