BEGIN:VCALENDAR
VERSION:2.0
PRODID:-//wp-events-plugin.com//7.2.3.1//EN
BEGIN:VEVENT
UID:621@ventureclub.cz
DTSTART;TZID=Europe/Prague:20251006T190000
DTEND;TZID=Europe/Prague:20251006T193000
DTSTAMP:20251002T123104Z
URL:https://ventureclub.cz/udalost/novinky-zebra-group-1/
SUMMARY:Novinky ZEBRA Group 1
DESCRIPTION:Pro lepší informovanost investorů projektu výroby aut pro k
 omunální služby\, jsme zorganizovali meeting\, na pondělí 6.10.2025 p
 odvečer\, v 19 hodin. Poinformujeme o posledním vývoji a stavu jednán
 í\, které za Venture Club v těchto dnech vedeme. Stavte se.\n\nPokud js
 te investory projektu a máte-li registraci\, po přihlášení níže a v
  průběhu akcí dostanete email na vzdálený meeting přes Microsoft Tea
 ms a můžete se připojit. Déle jsme si o ZEBŘE nepovídali (pokud tedy
  nesledujete platformu\, tam něco píšeme pravidelně) - povíme si\, co
  nového.\n\nUpozornění: akce je určena v těchto kolech - akci opakuje
 me s dalšími informacemi - jen členům Venture Club zs Pokud máte záj
 em sledovat informační servis k projektu pravidelně\, udělejte si u n
 ás členství. Registrace do klubu je zde . Bez registrace ve Venture Clu
 b zs se této akce možná nezúčastní. Stejně tak\, přístup do chrá
 něné zóny webu je jen pro registrované členy.\n\nAkce je pouze on-lin
 e a pro stávající investory - členy Venture Clubu - zdarma. Další in
 formace na vyžádání\, nebo v chráněné zóně projektů. \nPetr Šed
 ivý \nJednatel Venture Club Invest sro\, osoba rizikového kapitálu\, p
 ředseda výboru spolku Venture Club zs
ATTACH;FMTTYPE=image/jpeg:https://ventureclub.cz/wp-content/uploads/2025/1
 0/IMG-20251002-WA0008.jpg
CATEGORIES:Prezentace
LOCATION:Microsoft Teams Meeting\, online\, Praha 1\, Česká republika
GEO:50.0887101;14.4155981
X-APPLE-STRUCTURED-LOCATION;VALUE=URI;X-ADDRESS=online\, Praha 1\, Česká 
 republika;X-APPLE-RADIUS=100;X-TITLE=Microsoft Teams Meeting:geo:50.088710
 1,14.4155981
END:VEVENT
BEGIN:VTIMEZONE
TZID:Europe/Prague
X-LIC-LOCATION:Europe/Prague
BEGIN:DAYLIGHT
DTSTART:20250330T030000
TZOFFSETFROM:+0100
TZOFFSETTO:+0200
TZNAME:CEST
END:DAYLIGHT
END:VTIMEZONE
END:VCALENDAR