BEGIN:VCALENDAR
VERSION:2.0
PRODID:-//wp-events-plugin.com//7.2.3.1//EN
BEGIN:VEVENT
UID:630@ventureclub.cz
DTSTART;TZID=Europe/Prague:20251124T190000
DTEND;TZID=Europe/Prague:20251124T200000
DTSTAMP:20251106T102426Z
URL:https://ventureclub.cz/udalost/on_line-novinky-v-projektech/
SUMMARY:ON_LINE novinky v projektech
DESCRIPTION:Protože se nám sešlo více novinek v projektech\, zveme Vás
  na online setkání\, kde společně projdeme aktuální dění v našich
  klíčových projektech. Dozvíte se\, jak se vyvíjí ZEBRA Group\, jak
 é novinky přináší baterky a jak se rozvíjí koncept TWIST Café.\n\n
 📍 Forma: Online (po registraci obdržíte v den akce přístupový odka
 z)\n\nCo Vás čeká:\n\n 	Přehled aktuálního stavu a plánů ZEBRA Gro
 up.\n 	Novinky z baterkách\n 	Rozvoj TWIST Café a jak to bude dál.\n\nS
 etkání je určeno investorům a členům klubu. Účast je možná pouze
  po registraci.
ATTACH;FMTTYPE=image/jpeg:https://ventureclub.cz/wp-content/uploads/2025/1
 1/Designer.png
END:VEVENT
BEGIN:VTIMEZONE
TZID:Europe/Prague
X-LIC-LOCATION:Europe/Prague
BEGIN:STANDARD
DTSTART:20251026T020000
TZOFFSETFROM:+0200
TZOFFSETTO:+0100
TZNAME:CET
END:STANDARD
END:VTIMEZONE
END:VCALENDAR