BEGIN:VCALENDAR
VERSION:2.0
PRODID:-//wp-events-plugin.com//7.2.3.1//EN
BEGIN:VEVENT
UID:189@ventureclub.cz
DTSTART;TZID=Europe/Prague:20210416T080000
DTEND;TZID=Europe/Prague:20210416T093000
DTSTAMP:20221007T074302Z
URL:https://ventureclub.cz/udalost/online-klubove-rano-28/
SUMMARY:ONLINE Klubové ráno 28
DESCRIPTION:Zveme Vás na 28. snídani Venture Clubu\, která se koná bě
 žně v pátek ráno v hotelu Jalta - bude - zdá se - opět ON-LINE.  Po
 tkáme se přes TEAMS\, snídani si musíme udělat sami. Projdeme\, co je
  nového a rádi se s Vámi uvidíme. Pokud se situace kolem covid změní
  a bude možné se potkat osobně\, změnu ohlásíme předem.\n\nJedním 
 z hlavních přínosů našeho klubu je diskuze a předávání zkušenost
 í. Někdy kvůli nabitému programu většiny akcí nezůstane dostatek 
 času na neformální popovídání. Klubové snídaně se tak staly míst
 em\, kde máme čas a prostor probrat vývoj investic\, nové projekty uch
 ázející se o získání investora a další plány a nápady pro klub d
 o budoucna.  Zároveň se více poznáme\, což přispívá k příjemné
  atmosféře v klubu.\n\nSnídaně se konají pravidelně 2. pátek v měs
 íci od 8:00-10:00 hod.\, dejte si je předem do kalendáře. Dubnová sn
 ídaně je díky Velikonocům posunutá. Potkáváme se v prostorách hote
 lové restaurace Jalta na Václavském náměstí Praha 1 nebo online\, pa
 k trvají 8:00-9:30 hodin.\n\nSnídaně se hradí na místě hotově\, 200
  Kč členové a 300 Kč hosté. ONLINE účast je zdarma. Úhrada zahrnuj
 e bohatý neomezený snídaňový bufet hotelu. Registrace na akci předem
  je nutná\, děkujeme za pochopení.
ATTACH;FMTTYPE=image/jpeg:https://ventureclub.cz/wp-content/uploads/2022/0
 8/Klubove_Rano_.jpg
CATEGORIES:Snídaně
LOCATION:Microsoft Teams Meeting\, online\, Praha 1\, Česká republika
GEO:50.0887101;14.4155981
X-APPLE-STRUCTURED-LOCATION;VALUE=URI;X-ADDRESS=online\, Praha 1\, Česká 
 republika;X-APPLE-RADIUS=100;X-TITLE=Microsoft Teams Meeting:geo:50.088710
 1,14.4155981
END:VEVENT
BEGIN:VTIMEZONE
TZID:Europe/Prague
X-LIC-LOCATION:Europe/Prague
BEGIN:DAYLIGHT
DTSTART:20210328T030000
TZOFFSETFROM:+0100
TZOFFSETTO:+0200
TZNAME:CEST
END:DAYLIGHT
END:VTIMEZONE
END:VCALENDAR