BEGIN:VCALENDAR
VERSION:2.0
PRODID:-//wp-events-plugin.com//7.2.3.1//EN
BEGIN:VEVENT
UID:588@ventureclub.cz
DTSTART;TZID=Europe/Prague:20250318T180000
DTEND;TZID=Europe/Prague:20250318T210000
DTSTAMP:20250314T163459Z
URL:https://ventureclub.cz/udalost/oto-foltyn-prvnim-koordinatorem-strateg
 icke-komunikace-uradu-vlady/
SUMMARY:Večer s Plk. Otakarem  Foltýnem
DESCRIPTION:📢 Jak se mění válečné konflikty? Jaké výzvy přináš
 í hybridní válka a jak na ně reaguje mezinárodní právo?\nPřijďte 
 si poslechnout jedinečnou přednášku renomovaného odborníka s bohatý
 mi zkušenostmi z armádního prostředí i akademické sféry! Náš host
  Plk. Otakar Foltýn bývalý náčelník Vojenské policie a současný 
 člen Vojenské kanceláře prezidenta republiky\, vás provede problemati
 kou moderních konfliktů a právních výzev\, kterým dnes čelí mezin
 árodní společenství.\nNezmeškejte příležitost dozvědět se více 
 o fungování mezinárodního práva v době hybridních hrozeb a diskutov
 at s odborníkem\, který se tématu věnuje nejen teoreticky\, ale i v pr
 axi.\n📍 Rezervujte si své místo ještě dnes!\nTěšíme se na vaši 
 účast!\nBěhem své služby v armádě zastával různé pozice\, mimo j
 iné pracoval v Sekci rozvoje druhů sil\, Společném operačním centru\
 , na Vojenské akademii a inspektorátu. Od 1. července 2022 do 28. únor
 a 2023 působil jako náčelník Vojenské policie\, přičemž v únoru 2
 023 sám požádal o uvolnění z této funkce. V březnu téhož roku byl
  v rámci personálních změn spojených s nástupem prezidenta Petra Pav
 la převelen do Vojenské kanceláře prezidenta republiky.\nKromě vojens
 ké kariéry se věnuje i pedagogické činnosti jako externí vyučujíc
 í na Filozofické fakultě Univerzity Karlovy\, kde současně studuje do
 ktorský program zaměřený na moderní dějiny. Specializuje se také na
  mezinárodní právo a problematiku hybridních konfliktů. Jako odborní
 k na mezinárodní právo spolupracuje s Českým červeným křížem a j
 e členem České společnosti pro mezinárodní právo.
ATTACH;FMTTYPE=image/jpeg:https://ventureclub.cz/wp-content/uploads/2025/0
 3/Plk._Otakar_Foltyn_2023.jpg
CATEGORIES:Prezentace
LOCATION:Park Atrium u spol. 2N\, Pod Vinicí 2028/20\, Praha 12\, Česká 
 republika
GEO:50.0158484;14.404343599999947
X-APPLE-STRUCTURED-LOCATION;VALUE=URI;X-ADDRESS=Pod Vinicí 2028/20\, Praha
  12\, Česká republika;X-APPLE-RADIUS=100;X-TITLE=Park Atrium u spol. 2N:
 geo:50.0158484,14.404343599999947
END:VEVENT
BEGIN:VTIMEZONE
TZID:Europe/Prague
X-LIC-LOCATION:Europe/Prague
BEGIN:STANDARD
DTSTART:20241027T020000
TZOFFSETFROM:+0200
TZOFFSETTO:+0100
TZNAME:CET
END:STANDARD
END:VTIMEZONE
END:VCALENDAR