BEGIN:VCALENDAR
VERSION:2.0
PRODID:-//wp-events-plugin.com//7.2.3.1//EN
BEGIN:VEVENT
UID:430@ventureclub.cz
DTSTART;TZID=Europe/Prague:20230628T190000
DTEND;TZID=Europe/Prague:20230628T230000
DTSTAMP:20230628T062716Z
URL:https://ventureclub.cz/udalost/pojdte-si-popovidat-pred-letem-ii-rocni
 k/
SUMMARY:Pojďte si popovídat před létem II. ročník
DESCRIPTION:Na 28.6. 2023 - středa - přesně po roce - jsme naplánovali 
 neformální setkání - v pivovaru Národní na Národní 8\, vedle "Vor
 šilek". Končí červen\, sedmý rok činnosti klubu od založení v zá
 ří 2016\, po prázdninách začne osmý. Aktivit bylo dost\, novinek v p
 rojektech je také kopec. Nabízí se i téma jak dál od podzimu - uvažu
 jeme více podporovat řádné členství a pomoci získat větší chuť 
 do investování všem. Bude nový web a nejen to. Rádi se potkáme i jen
  na kus řeči\, neformálně.\n\nZveme Vás - bude-li počasí - na zahr
 ádku pivovaru\, kde pro nás bude připraven velký stůl a party stan. J
 edno pivo/nápoj jde "za klubem" a chcete-li\, můžete si  objednat sami
  na sebe pak něco dalšího. Zásoby jídla a pití mají dostatečné a 
 i loni nám chutnalo. (Při nepřízni počasí máme rezervaci dovnitř).
 \n\nDejte si datum do kalendáře a přijďte. Těšíme se na viděnou.\n
 \nPetr Šedivý za Výbor klubu
ATTACH;FMTTYPE=image/jpeg:https://ventureclub.cz/wp-content/uploads/2023/0
 6/pivovarnarodni1.jpg
CATEGORIES:Společenská akce
LOCATION:Pivovar Národní\, Národní 8\, Praha 1\, 11000\, Česká republ
 ika
GEO:50.081262;14.415244
X-APPLE-STRUCTURED-LOCATION;VALUE=URI;X-ADDRESS=Národní 8\, Praha 1\, 110
 00\, Česká republika;X-APPLE-RADIUS=100;X-TITLE=Pivovar Národní:geo:50
 .081262,14.415244
END:VEVENT
BEGIN:VTIMEZONE
TZID:Europe/Prague
X-LIC-LOCATION:Europe/Prague
BEGIN:DAYLIGHT
DTSTART:20230326T030000
TZOFFSETFROM:+0100
TZOFFSETTO:+0200
TZNAME:CEST
END:DAYLIGHT
END:VTIMEZONE
END:VCALENDAR