BEGIN:VCALENDAR
VERSION:2.0
PRODID:-//wp-events-plugin.com//7.2.3.1//EN
BEGIN:VEVENT
UID:512@ventureclub.cz
DTSTART;TZID=Europe/Prague:20240625T190000
DTEND;TZID=Europe/Prague:20240625T230000
DTSTAMP:20240625T102127Z
URL:https://ventureclub.cz/udalost/pojdte-si-popovidat-pred-letem-iii-rocn
 ik/
SUMMARY:Pojďte si popovídat před létem III. ročník
DESCRIPTION:Na 25.6. 2024 - úterý - po roce - jsme naplánovali neformál
 ní setkání - třetí ročník setkání v pivovaru Národní na Národn
 í 8\, vedle "Voršilek". Končí červen\, osmý rok činnosti klubu od z
 aložení v září 2016\, po prázdninách začne devátý. Aktivit bylo 
 dost\, novinek v projektech je také kopec. Nabízí se i téma jak dál o
 d podzimu - co změnit\, či s kým spolupracovat\, nebo jaké investice s
 e líbí nejvíce. Rádi se potkáme i jen na kus řeči\, neformálně.\n
 \nZveme Vás - bude-li počasí - na zahrádku pivovaru\, kde pro nás bud
 e připraven velký stůl a party stan. Jedno pivo/nápoj jde "za klubem" 
 a chcete-li\, můžete si  objednat sami na sebe pak něco dalšího. Zá
 soby jídla a pití mají dostatečné a i loni nám chutnalo. (Při nepř
 ízni počasí máme rezervaci dovnitř).\n\nDejte si datum do kalendáře
  a přijďte. Těšíme se na viděnou.\n\nPetr Šedivý za Výbor klubu\n
 \n&nbsp\;\n\nPS: kapacita vyčerpána\, tak příště\, kdo jste nestihl 
 se přihlásit :-)
ATTACH;FMTTYPE=image/jpeg:https://ventureclub.cz/wp-content/uploads/2023/0
 6/pivovarnarodni1.jpg
CATEGORIES:Společenská akce
LOCATION:Pivovar Národní\, Národní 8\, Praha 1\, 11000\, Česká republ
 ika
GEO:50.081262;14.415244
X-APPLE-STRUCTURED-LOCATION;VALUE=URI;X-ADDRESS=Národní 8\, Praha 1\, 110
 00\, Česká republika;X-APPLE-RADIUS=100;X-TITLE=Pivovar Národní:geo:50
 .081262,14.415244
END:VEVENT
BEGIN:VTIMEZONE
TZID:Europe/Prague
X-LIC-LOCATION:Europe/Prague
BEGIN:DAYLIGHT
DTSTART:20240331T030000
TZOFFSETFROM:+0100
TZOFFSETTO:+0200
TZNAME:CEST
END:DAYLIGHT
END:VTIMEZONE
END:VCALENDAR