BEGIN:VCALENDAR
VERSION:2.0
PRODID:-//wp-events-plugin.com//7.2.3.1//EN
BEGIN:VEVENT
UID:596@ventureclub.cz
DTSTART;TZID=Europe/Prague:20250617T180000
DTEND;TZID=Europe/Prague:20250617T220000
DTSTAMP:20250515T091209Z
URL:https://ventureclub.cz/udalost/pojdte-si-popovidat-pred-letem-iv-rocni
 k-2/
SUMMARY:Pojďte si popovídat před létem IV. ročník
DESCRIPTION:Na 17.6. 2025 - úterý - po roce - jsme naplánovali neformál
 ní setkání - čtvrtý ročník setkání. Končí červen\, devátý ro
 k činnosti klubu od založení v září 2016\, po prázdninách začne d
 esátý. Aktivit bylo dost\, novinek v projektech je taky kopec. Nabízím
  se i téma jak dál od podzimu - co změnit\, či s kým spolupracovat\, 
 nebo jaké investice se líbí nejvíce. Rádi se potkáme i jen na kus ř
 eči\, neformálně.\n\nDejte si datum do kalendáře a přijďte. Těší
 me se na viděnou.\n\nPetr Šedivý za Výbor klubu
ATTACH;FMTTYPE=image/jpeg:https://ventureclub.cz/wp-content/uploads/2023/0
 6/pivovarnarodni1.jpg
CATEGORIES:Společenská akce
LOCATION:Pivovar Národní\, Národní 8\, Praha 1\, 11000\, Česká republ
 ika
GEO:50.081262;14.415244
X-APPLE-STRUCTURED-LOCATION;VALUE=URI;X-ADDRESS=Národní 8\, Praha 1\, 110
 00\, Česká republika;X-APPLE-RADIUS=100;X-TITLE=Pivovar Národní:geo:50
 .081262,14.415244
END:VEVENT
BEGIN:VTIMEZONE
TZID:Europe/Prague
X-LIC-LOCATION:Europe/Prague
BEGIN:DAYLIGHT
DTSTART:20250330T030000
TZOFFSETFROM:+0100
TZOFFSETTO:+0200
TZNAME:CEST
END:DAYLIGHT
END:VTIMEZONE
END:VCALENDAR