BEGIN:VCALENDAR
VERSION:2.0
PRODID:-//wp-events-plugin.com//7.2.3.1//EN
BEGIN:VEVENT
UID:203@ventureclub.cz
DTSTART;TZID=Europe/Prague:20220628T190000
DTEND;TZID=Europe/Prague:20220628T190000
DTSTAMP:20221007T074325Z
URL:https://ventureclub.cz/udalost/pojdte-si-popovidat-pred-letem/
SUMMARY:Pojďte si popovídat před létem
DESCRIPTION:Na 28.6. jsme naplánovali neformální setkání - v pivovaru 
 Národní na Národní 8\, vedle "Voršilek". Končí červen\, šestý ro
 k činnosti klubu od založení v září 2016\, po prázdninách začne s
 edmý. Aktivit bylo dost\, novinek v projektech je také kopec. Nabízí s
 e i téma jak dál od podzimu - uvažujeme více podporovat řádné člen
 ství a pomoci získat větší chuť do investování všem. Bude nový w
 eb a nejen to. Rádi se potkáme i jen na kus řeči\, neformálně.\n\nDe
 jte si datum do kalendáře a přijďte. Těšíme se na viděnou.\n\nPetr
  Šedivý za Výbor klubu
CATEGORIES:Společenská akce
LOCATION:Pivovar Národní\, Národní 8\, Praha 1\, 11000\, Česká republ
 ika
GEO:50.081262;14.415244
X-APPLE-STRUCTURED-LOCATION;VALUE=URI;X-ADDRESS=Národní 8\, Praha 1\, 110
 00\, Česká republika;X-APPLE-RADIUS=100;X-TITLE=Pivovar Národní:geo:50
 .081262,14.415244
END:VEVENT
BEGIN:VTIMEZONE
TZID:Europe/Prague
X-LIC-LOCATION:Europe/Prague
BEGIN:DAYLIGHT
DTSTART:20220327T030000
TZOFFSETFROM:+0100
TZOFFSETTO:+0200
TZNAME:CEST
END:DAYLIGHT
END:VTIMEZONE
END:VCALENDAR