BEGIN:VCALENDAR
VERSION:2.0
PRODID:-//wp-events-plugin.com//7.2.3.1//EN
BEGIN:VEVENT
UID:171@ventureclub.cz
DTSTART;TZID=Europe/Prague:20201103T180000
DTEND;TZID=Europe/Prague:20201103T200000
DTSTAMP:20221007T082124Z
URL:https://ventureclub.cz/udalost/prednaska-a-prezentace-listopad/
SUMMARY:Expediční jachting na Špicberkách a v Antarktidě
DESCRIPTION:Expediční jachting na Špicberkách a v Antarktidě je zajím
 avé téma. Provede nás večerem náš kolega\, člen klubu\, Ing. arch. 
 Petr Vojáček a spolu s ním Jan Pechar - vedoucí České arktické stan
 ice. Povíme si o expedičním jachtingu na Špicberkách a České arkti
 cké stanici a poté zamíříme úplně na druhý konec světa\, ukážem
 e si fotky z jachtingu v Antarktidě a Jižní Georgii.\n\nUrčitě přijd
 e řeč i na to\, jak to celé začalo\, jak Jihočeská univerzita pomohl
 a postavit a provozovat loď. Jak fungují či nefungují klasickék bater
 ie v extrémních podmínkách a třeba\, jak by jsme mohli - díky vazbá
 m na He3ba baterie a MES - dalším expedicím pomoci.\n\n\n\nPřihlášen
 í níže\, jako obvykle. Akci plánujeme zatím pn-line\, uvidíme\, jak 
 se vyvine situace.\n\nTěší se\n\nPetr Šedivý a Petr Vojáček
ATTACH;FMTTYPE=image/jpeg:https://ventureclub.cz/wp-content/uploads/2022/0
 8/spicberky2-scaled-1.jpg
CATEGORIES:Prezentace
LOCATION:Microsoft Teams Meeting\, online\, Praha 1\, Česká republika
GEO:50.0887101;14.4155981
X-APPLE-STRUCTURED-LOCATION;VALUE=URI;X-ADDRESS=online\, Praha 1\, Česká 
 republika;X-APPLE-RADIUS=100;X-TITLE=Microsoft Teams Meeting:geo:50.088710
 1,14.4155981
END:VEVENT
BEGIN:VTIMEZONE
TZID:Europe/Prague
X-LIC-LOCATION:Europe/Prague
BEGIN:STANDARD
DTSTART:20201025T020000
TZOFFSETFROM:+0200
TZOFFSETTO:+0100
TZNAME:CET
END:STANDARD
END:VTIMEZONE
END:VCALENDAR