BEGIN:VCALENDAR
VERSION:2.0
PRODID:-//wp-events-plugin.com//7.2.3.1//EN
BEGIN:VEVENT
UID:581@ventureclub.cz
DTSTART;TZID=Europe/Prague:20250204T173000
DTEND;TZID=Europe/Prague:20250204T193000
DTSTAMP:20250130T152819Z
URL:https://ventureclub.cz/udalost/prezentace-tensor-ventures-fund-2/
SUMMARY:Prezentace Tensor Ventures Fund 2
DESCRIPTION:Tensor Ventures Fund 2 je deep tech venture fond\, se sídlem v
  Lucembursku\, navazující na úspěšný TVF1. Oba fondy investují do p
 okročilých technologií jako jsou: umělá inteligence\, Digitální bio
 technologie\, Health technologie\, Kvantové technologie\, Developerské n
 ástroje\, či Novel energy a Climate tech. TVF1 jsme investovali v roce 2
 024 a již vyplácí první výnos. Nyní se otevírá TVF2\, v rámci prv
 ního closingu za výborných podmínek. \n\nFond je otevřený od roku 2
 025\, na deset let\, s možností prodloužení. Investovat bude postupně
  4 roky\, kdy i bude nakupovat firmy. Následně bude od pátého či šes
 tého roku vyplácet výnosy dalších 5 -7 let. Velikost je 50-60 milion
 ů Eur a část je již zainvestovaná do několika projektů. Dohodli jsm
 e celkovou investici 2 mil. Eur. Nyní nabíráme první cca třetinu až 
 polovinu objemu. Investoři se budou moci připojit do všech\, stejně ta
 k i jen do jediného klubového kola. Dřívější investice bude za lep
 ších podmínek. Detaily najdete po přihlášení v investiční platfor
 mě a v mobilní aplikaci\, několik dnů před akcí.  \n\nWebová str
 ánka fondu s přehledem zainvestovaných společností TVF1 je zde: tenso
 r.ventures.\n\n\n\nProgram:\n\n17:30 informace o dalších klubových inve
 sticích a avízo první výplaty TVF1 v únoru 2025\n\n18:00 Prezentace T
 ensor Ventures: Roman Smola\, Petr Ulvr a Ondřej Lipold.\n\nTeze fondu: 
  „zkoumáme hranice zásadních technologických inovací a investujeme 
 do neprobádaných oblastí. Přijímáme nevyhnutelné tektonické posuny
 \; vzestup umělé inteligence\, kvantová revoluce\, výpočetní biotech
 nologie\, nebo udržitelné technologie.“\n\n&nbsp\;\n\nInvestici jsme p
 ředjednali a podle zájmu potvrdíme celkový objem vstupu. Aktuálně sb
 íráme přísliby zatím bez platby. Uhrazení letošního vstupu se pře
 dpokládá do konce března. Další roky pak vždy v lednu 2026\, 2027 a 
 možná 2028. (Nabídka platí do vyprodání.) Investoři si koupí podí
 l v účelově založené společnosti Venture Club SPV7 s.r.o. a ta pak i
 nvestuje do fondu jako právnická osoba. Zvažujeme i možnost vstupů kv
 alifikovaných investorů řádných členů přes klubový fond podle par
 . 15 ZISIF. Přísliby prosíme zadávat v korunách. Vlastní fondová in
 vestice je v Eur.\n\nPrezentace fondu a informace k projektu TVF2 a dalš
 í informace najdete v investiční platformě\, po přihlášení do plat
 formy nejpozději několik dnů před akcí podívejte se. \n\nRegistrace
  na akci je níže\, prosíme o přihlášení. Vstup pro Řádné členy 
 VC a členy Vision Clubu je zdarma\, ostatní za mírný poplatek Těším
 e se na setkání\, osobně a nebo on-line.\n\nPetr Šedivý\n\n&nbsp\;
ATTACH;FMTTYPE=image/jpeg:https://ventureclub.cz/wp-content/uploads/2025/0
 1/TVF2_banner-e1738249553929.jpg
CATEGORIES:Den D,Prezentace
LOCATION:Park Atrium u spol. 2N\, Pod Vinicí 2028/20\, Praha 12\, Česká 
 republika
GEO:50.0158484;14.404343599999947
X-APPLE-STRUCTURED-LOCATION;VALUE=URI;X-ADDRESS=Pod Vinicí 2028/20\, Praha
  12\, Česká republika;X-APPLE-RADIUS=100;X-TITLE=Park Atrium u spol. 2N:
 geo:50.0158484,14.404343599999947
END:VEVENT
BEGIN:VTIMEZONE
TZID:Europe/Prague
X-LIC-LOCATION:Europe/Prague
BEGIN:STANDARD
DTSTART:20241027T020000
TZOFFSETFROM:+0200
TZOFFSETTO:+0100
TZNAME:CET
END:STANDARD
END:VTIMEZONE
END:VCALENDAR