BEGIN:VCALENDAR
VERSION:2.0
PRODID:-//wp-events-plugin.com//7.2.3.1//EN
BEGIN:VEVENT
UID:261@ventureclub.cz
DTSTART;TZID=Europe/Prague:20161101T180000
DTEND;TZID=Europe/Prague:20161101T200000
DTSTAMP:20221007T074131Z
URL:https://ventureclub.cz/udalost/prezentace-thomas-lloyd-mirek-kovar/
SUMMARY:Prezentace Thomas LLoyd\, Mirek Kovář
DESCRIPTION:Thomas Lloyd - bezpečné a efektivní infrastrukturní investi
 ce v Asii - Mirek Kovář\, ředitel Thomas Lloyd pro ČR a střední Evr
 opu\n\nSrdečně vás zveme na prezentaci Venture Clubu s přednáškou a 
 diskuzí.  Součástí přednášky budou i informace o jedinečné inves
 tiční příležitosti společnosti ThomasLloyd a všech aktuálních zp
 ůsobech zapojení do tohoto projektu se stabilním výnosem\, nízkou č
 i nulovou volatilitou a s rentou\, třeba i již od prvního měsíce inve
 stice. Alternativa\, kterou užívají velcí institucionální investoři
 \, je dostupná i v podobě produktu schváleného ČNB\, již od roční 
 investice.\n\nKlub není jen o partnerech\, kteří nám stabilně vyděl
 ávají 8-11% ale i 20% ročně již více let. Ale hlavně je to o nás a
  našem osobním rozvoji a vlastním fungování s penězi. O zákonech\, 
 které ve hře na peníze platí. A kde jinde má člověk lepší možnos
 t se je naučit než od těch\, kteří tato pravidla již znají a úspě
 šně používají.\n\nAkce je pro členy klubu zdarma a místa se obvykle
  velmi rychle naplní\, registrujte se co nejdříve. Pokud nemáte regis
 traci nebo doporučení od stávajícího člena\, napište nám i tak. Pr
 vní vstup je volný.\n\nTěším se na setkání v klubu právě na této
  akci.\n\nPetr Šedivý\n\npředseda výboru VCZS
ATTACH;FMTTYPE=image/jpeg:https://ventureclub.cz/wp-content/uploads/2016/1
 0/thomas_Loyd.jpg
CATEGORIES:Prezentace
LOCATION:palác Konvikt\, Bartolomějská 11\, Praha 1\, Praha\, hlavní m
 ěsto\, 110 00\, Česká republika
GEO:50.0830744;14.4175702
X-APPLE-STRUCTURED-LOCATION;VALUE=URI;X-ADDRESS=Bartolomějská 11\, Praha 
 1\, Praha\, hlavní město\, 110 00\, Česká republika;X-APPLE-RADIUS=100
 ;X-TITLE=palác Konvikt:geo:50.0830744,14.4175702
END:VEVENT
BEGIN:VTIMEZONE
TZID:Europe/Prague
X-LIC-LOCATION:Europe/Prague
BEGIN:STANDARD
DTSTART:20161030T020000
TZOFFSETFROM:+0200
TZOFFSETTO:+0100
TZNAME:CET
END:STANDARD
END:VTIMEZONE
END:VCALENDAR