BEGIN:VCALENDAR
VERSION:2.0
PRODID:-//wp-events-plugin.com//7.2.3.1//EN
BEGIN:VEVENT
UID:475@ventureclub.cz
DTSTART;TZID=Europe/Prague:20240130T180000
DTEND;TZID=Europe/Prague:20240130T200000
DTSTAMP:20240122T194321Z
URL:https://ventureclub.cz/udalost/rok-2024-pokrocile-moznosti-ai/
SUMMARY:Pokračování 2024: Pokročilé možnosti AI
DESCRIPTION:Loni nešlo přehlédnout nástup ChatGPT\, konverzační uměl
 é inteligence\, včetně závodu mezi Google a Microsoftem jak AI dostat 
 do vyhledávání. Stejně tak nepřehlédnutelné jsou různorodé AI pro
  generování a úpravy obrázků a fotografií. Podíváme se\, co je po 
 roce nového a jaké pokročilé možnosti využití dnes AI nabízí.\n\n
 Rok 2023 byl nepochybně rokem kdy se v řadě případů zjistilo\, co AI
  změní. Dnes je více jasné\, jaké lidské činnosti nahradí\,  změ
 ní a\, to je důležité\, posune na vyšší úroveň.\n\nPřijďte se s
 eznámit s tím co všechno dnes AI umí\, jaké jsou aktuální možnosti
  a na čem se pracuje. A kde může případně pomoci i vám.\n\nPředná
 šející\, stejně jako loni nám již známý:\n\nDaniel Dočekal\, konz
 ultant\, technologický novinář\, knižní autor\, aktivně využívá A
 I pro vlastní práci a řeší to i s klienty. Strategie\, marketing\, be
 zpečnost a ochrana soukromí\, technologie\, hardware\, software\, sociá
 lní sítě\, média a žurnalistika\, public relations jsou obory ve kter
 ých aktivně působí. A také řeší jak v nich umělou inteligenci efe
 ktivně využít.\n\nRegistrace na akci níže\, jako obvykle - osobní ú
 čast nebo on-line. Vstup je pro řádné členy (full členství) v ceně
  členství\, pro členy se základním členství za úhradu. Akce je př
 ístupná i bez členství v klubu\, po přihlášení a úhradě vstupné
 ho.\n\nTěšíme se na viděnou.
ATTACH;FMTTYPE=image/jpeg:https://ventureclub.cz/wp-content/uploads/2024/0
 1/pokrocileAI.png
CATEGORIES:Prezentace
LOCATION:Park Atrium u spol. 2N\, Pod Vinicí 2028/20\, Praha 12\, Česká 
 republika
GEO:50.0158484;14.404343599999947
X-APPLE-STRUCTURED-LOCATION;VALUE=URI;X-ADDRESS=Pod Vinicí 2028/20\, Praha
  12\, Česká republika;X-APPLE-RADIUS=100;X-TITLE=Park Atrium u spol. 2N:
 geo:50.0158484,14.404343599999947
END:VEVENT
BEGIN:VTIMEZONE
TZID:Europe/Prague
X-LIC-LOCATION:Europe/Prague
BEGIN:STANDARD
DTSTART:20231029T020000
TZOFFSETFROM:+0200
TZOFFSETTO:+0100
TZNAME:CET
END:STANDARD
END:VTIMEZONE
END:VCALENDAR